BEGIN:VCALENDAR
VERSION:2.0
PRODID:-//【HIRAETH.Tokyo】(ヒラエス.トーキョー) - ECPv6.11.2//NONSGML v1.0//EN
CALSCALE:GREGORIAN
METHOD:PUBLISH
X-ORIGINAL-URL:https://hiraeth.tokyo
X-WR-CALDESC:【HIRAETH.Tokyo】(ヒラエス.トーキョー) のイベント
REFRESH-INTERVAL;VALUE=DURATION:PT1H
X-Robots-Tag:noindex
X-PUBLISHED-TTL:PT1H
BEGIN:VTIMEZONE
TZID:Asia/Tokyo
BEGIN:STANDARD
TZOFFSETFROM:+0900
TZOFFSETTO:+0900
TZNAME:JST
DTSTART:20250101T000000
END:STANDARD
END:VTIMEZONE
BEGIN:VEVENT
DTSTART;VALUE=DATE:20250701
DTEND;VALUE=DATE:20250702
DTSTAMP:20260421T222853
CREATED:20250506T180357Z
LAST-MODIFIED:20250625T085354Z
UID:13918-1751328000-1751414399@hiraeth.tokyo
SUMMARY:☆☆☆☆☆☆☆『冠Fes-カンフェス-TERA』＠KT Zepp YOKOHAMA
DESCRIPTION:⏰日時　7月1日(火)\n📝イベント名　☆☆☆☆☆☆☆『冠Fes-カンフェス-TERA』\n💴料金　前方Sチケット7\,000円　 一般Aチケット2\,500円 　当日+1\,000円\n🎫予約　https://t.livepocket.jp/e/kanfes_tera0701\n🎫情報解禁　6月11日(水)19:00\n🎫チケ発　6月11日(水)22:30\n🎤LIVE　11:00〜11:15\n📸物販　11:20〜12:20(A)\n🎁指名特典　\n🌟ポイント50P！\n🌟サインありチェキ券2枚！\n🌟全員と撮れるコメント付き写メ券！\n🌟20秒動画券！\n🌟うでずもう券！\n🌟ペンライトフィルム！\n🌟サイン券！\n📍会場　KT Zepp YOKOHAMA\n🚪開場　10:40\n💃開演　11:00\n👩🏼‍💻出演　HIRAETH.Tokyo 他
URL:https://hiraeth.tokyo/event/20250701zepp/
ATTACH;FMTTYPE=image/jpeg:https://hiraeth.tokyo/wp-content/uploads/IMG_8373.jpg
END:VEVENT
END:VCALENDAR