BEGIN:VCALENDAR
VERSION:2.0
PRODID:-//【HIRAETH.Tokyo】(ヒラエス.トーキョー) - ECPv6.11.2//NONSGML v1.0//EN
CALSCALE:GREGORIAN
METHOD:PUBLISH
X-WR-CALNAME:【HIRAETH.Tokyo】(ヒラエス.トーキョー)
X-ORIGINAL-URL:https://hiraeth.tokyo
X-WR-CALDESC:【HIRAETH.Tokyo】(ヒラエス.トーキョー) のイベント
REFRESH-INTERVAL;VALUE=DURATION:PT1H
X-Robots-Tag:noindex
X-PUBLISHED-TTL:PT1H
BEGIN:VTIMEZONE
TZID:Asia/Tokyo
BEGIN:STANDARD
TZOFFSETFROM:+0900
TZOFFSETTO:+0900
TZNAME:JST
DTSTART:20250101T000000
END:STANDARD
END:VTIMEZONE
BEGIN:VEVENT
DTSTART;VALUE=DATE:20250704
DTEND;VALUE=DATE:20250705
DTSTAMP:20260421T222819
CREATED:20250616T033557Z
LAST-MODIFIED:20250701T112752Z
UID:14381-1751587200-1751673599@hiraeth.tokyo
SUMMARY:『TALE N.T. FESTA FREELIVE Vol.10』＠五反田G7
DESCRIPTION:⏰日時　7/4(金)\n📝イベント名　『TALE N.T. FESTA FREELIVE Vol.10』\n💴料金　一般¥0/優先¥2\,000 / 当日各+¥500 (別途各＋2D 1200円)\n🎫予約　https://tiget.net/events/410921\n🎫情報解禁　6/25(水)　17:00\n🎫チケ発　6/25(水)　20:00\n🎤LIVE　21:00〜21:20\n📸物販　終演後物販\n📍会場　五反田G7\n🚪開場　18:30\n💃開演　18:50\n👩🏼‍💻出演　HIRAETH.Tokyo / ミニスカポリス / みらくる⭐ふぉーぜ / IFII / 椿紫成 / HIRAETH.Tokyo / 虹色幻想曲 プリズム・ファンタジア / pipia / いつだって青い春。
URL:https://hiraeth.tokyo/event/%e3%83%a9%e3%82%a4%e3%83%96%ef%bc%a0%e4%ba%94%e5%8f%8d%e7%94%b0-2/
ATTACH;FMTTYPE=image/jpeg:https://hiraeth.tokyo/wp-content/uploads/20250704TALE-NT-FREE-10-1.jpg
END:VEVENT
END:VCALENDAR