BEGIN:VCALENDAR
VERSION:2.0
PRODID:-//【HIRAETH.Tokyo】(ヒラエス.トーキョー) - ECPv6.11.2//NONSGML v1.0//EN
CALSCALE:GREGORIAN
METHOD:PUBLISH
X-ORIGINAL-URL:https://hiraeth.tokyo
X-WR-CALDESC:【HIRAETH.Tokyo】(ヒラエス.トーキョー) のイベント
REFRESH-INTERVAL;VALUE=DURATION:PT1H
X-Robots-Tag:noindex
X-PUBLISHED-TTL:PT1H
BEGIN:VTIMEZONE
TZID:Asia/Tokyo
BEGIN:STANDARD
TZOFFSETFROM:+0900
TZOFFSETTO:+0900
TZNAME:JST
DTSTART:20250101T000000
END:STANDARD
END:VTIMEZONE
BEGIN:VEVENT
DTSTART;VALUE=DATE:20250712
DTEND;VALUE=DATE:20250713
DTSTAMP:20260422T003818
CREATED:20250512T114220Z
LAST-MODIFIED:20250711T143451Z
UID:14000-1752278400-1752364799@hiraeth.tokyo
SUMMARY:☆☆☆☆SPARK 2025 渋谷納涼祭＠ばぐちか
DESCRIPTION:⏰日時　7/12(土)\n📝イベント名　☆☆☆☆SPARK 2025 渋谷納涼祭\n💴料金　・SPARKチケット¥15\,000　・一般チケット¥4\,000　※2日通し券の販売なし　※リストバンド交換時に1D代別途\n🎫予約　https://t-dv.com/spark2025_summer\n🎫情報解禁　6/7(土)19:00\n🎤LIVE　11:00〜11:20\n📸物販　11:50〜12:50(W) No.77\n🎁指名特典　\n🌟ポイント40P!\n🌟サインありチェキ券2枚！\n🌟宿題チェキ券1枚！\n🌟集合デカチェキ券！\n🌟1分間写メ撮り放題券！(トークなし)\n🌟ファンの方全員との集合写真！(特典会開始時に行います！その写真は公式Xに搭載いたします！)\n📍会場　ばぐちか\n🚪開場　10:00\n💃開演　11:00\n👩🏼‍💻出演　HIRAETH.Tokyo 他
URL:https://hiraeth.tokyo/event/%e3%83%a9%e3%82%a4%e3%83%96%ef%bc%a0-7/
ATTACH;FMTTYPE=image/jpeg:https://hiraeth.tokyo/wp-content/uploads/IMG_7998.jpg
END:VEVENT
BEGIN:VEVENT
DTSTART;VALUE=DATE:20250712
DTEND;VALUE=DATE:20250713
DTSTAMP:20260422T003818
CREATED:20250508T062029Z
LAST-MODIFIED:20250712T053046Z
UID:13939-1752278400-1752364799@hiraeth.tokyo
SUMMARY:「SHBUYA KAWAII SUPER LIVE 2025」＠渋谷音楽堂
DESCRIPTION:⏰日時　7/12(土)\n📝イベント名　「SHBUYA KAWAII SUPER LIVE 2025」\n💴料金　前方4\,000円/一般3\,000円（各D別）\n🎫予約　https://tiget.net/events/411175\n🎫情報解禁　6/28　12時\n🎫チケ発　6/29　12時\n🎤LIVE　20:40〜20:55\n📸物販　終演後物販\n📍会場　渋谷音楽堂\n🚪開場　8：45　\n💃開演　9：00予定※変更される場合ございます\n👩🏼‍💻出演　Hi-Fi GIRLs PROJECT:LUNARIA、Hi-Fi GIRLs PROJECT:ORBIT、純粋カフェラッテ、Lって何のLですか？、PrincessGarden-TOKYO-、TheWORLD、彗星のスターティア*、Twinkle☆Stars、桜色Standard、ゆるっと革命団、ラプラス、藍色アステリズム、恋情アークライト、純真アムレット、MelMIi、fairy☆dolls、戦国アニマル極楽浄土、ヲドルマヨナカ、ミリオン! 〜Million Heaven Tokyo〜、Goodbye for First kiss、ヒトノユメ、アイドルは下剋上、flawless POP.、LapisBell、HIRAETH.Tokyo、ZeroProject Z2-A2、ZeroProject Z2-B4、ZeroProject Z3-A、ワガマき、翔んでファレノプシス、AILOS、8FLAG、Dear8、MiDi ON!、INSRiA、mignon、ひろぷらす＋、NCHD-のちほど-、瀬口こころ、Reve Pocket、PATI PATI CANDY…☆ （ひまわり・さくら）、FandL、おーらびっと、くれよんちゅ〜どく、真夜中の魔法少女
URL:https://hiraeth.tokyo/event/%e3%83%a9%e3%82%a4%e3%83%96%ef%bc%a0%e6%b8%8b%e8%b0%b7%e9%9f%b3%e6%a5%bd%e5%a0%82-5/
ATTACH;FMTTYPE=image/jpeg:https://hiraeth.tokyo/wp-content/uploads/0712-SHBUYA-KAWAII-SUPER-LIVE-2025.jpg
END:VEVENT
END:VCALENDAR