BEGIN:VCALENDAR
VERSION:2.0
PRODID:-//【HIRAETH.Tokyo】(ヒラエス.トーキョー) - ECPv6.11.2//NONSGML v1.0//EN
CALSCALE:GREGORIAN
METHOD:PUBLISH
X-ORIGINAL-URL:https://hiraeth.tokyo
X-WR-CALDESC:【HIRAETH.Tokyo】(ヒラエス.トーキョー) のイベント
REFRESH-INTERVAL;VALUE=DURATION:PT1H
X-Robots-Tag:noindex
X-PUBLISHED-TTL:PT1H
BEGIN:VTIMEZONE
TZID:Asia/Tokyo
BEGIN:STANDARD
TZOFFSETFROM:+0900
TZOFFSETTO:+0900
TZNAME:JST
DTSTART:20250101T000000
END:STANDARD
END:VTIMEZONE
BEGIN:VEVENT
DTSTART;VALUE=DATE:20250713
DTEND;VALUE=DATE:20250714
DTSTAMP:20260422T003817
CREATED:20250524T103048Z
LAST-MODIFIED:20250711T112615Z
UID:14150-1752364800-1752451199@hiraeth.tokyo
SUMMARY:☆☆『横Fes-ヨコフェス-』＠中野坂上S.U.B
DESCRIPTION:⏰日時　07/13（日）\n📝イベント名　☆☆『横Fes-ヨコフェス-』\n💴料金　(前売り)前方Sチケット3\,500円 当日券4\,500円　(前売り)一般Aチケット2\,500円 当日券3\,500円　(入場時1ドリンク代必須)\n🎫予約　https://t.livepocket.jp/e/yokofes0713\n🎤LIVE　10:40〜11:00\n📸物販　11:05〜12:05(A)\n📍会場　中野坂上S.U.B\n🚪開場　10:30\n💃開演　10:40\n👩🏼‍💻出演　HIRAETH.Tokyo /踊れ！神風/フィルフェリーチェ/ストロボグリッター/LapisBell /真夜中の魔法少女/HIRAETH.Tokyo/ステラリオン/シュチュエーションシップ/DearLink/ZeroProject Z2-A4/ZeroProject Z2-B2/ZeroProject Z3-B/CoTei/真夜中のメリーゴーランド/きみはれ。/embellir/キミと永遠に/twinDoll/きゅーんず！/バブルバビデガム∀/アイスクリーム夢少女/異国のルミナリア/憑依中毒-シャーマンホリック-/カンロヂ/わがなま/mignon/♮リアスクライブ/May Love Rouge/Lip Too Sweet/GIRLY MOON PROJECT
URL:https://hiraeth.tokyo/event/%e2%98%86%e2%98%86%e3%83%a9%e3%82%a4%e3%83%96%ef%bc%a0%e4%b8%ad%e9%87%8e%e5%9d%82%e4%b8%8as-u-b-6/
ATTACH;FMTTYPE=image/jpeg:https://hiraeth.tokyo/wp-content/uploads/横Fes_0713.jpg
END:VEVENT
BEGIN:VEVENT
DTSTART;VALUE=DATE:20250713
DTEND;VALUE=DATE:20250714
DTSTAMP:20260422T003817
CREATED:20250508T062132Z
LAST-MODIFIED:20250712T053320Z
UID:13941-1752364800-1752451199@hiraeth.tokyo
SUMMARY:「ARIAKE KAWAII SUPER LIVE 2025」＠SMALL WORLDS Miniature Museum
DESCRIPTION:⏰日時　7/13(日)\n📝イベント名　「ARIAKE KAWAII SUPER LIVE 2025」\n💴料金　一般3\,000円/前方4\,000円（各D別）\n🎫予約　https://tiget.net/events/411849　\n🎤LIVE　20:40〜21:00\n📸物販　終演後物販\n📍会場　SMALL WORLDS Miniature Museum\n🚪開場　10：30\n💃開演　11：00\n👩🏼‍💻出演　7限目のフルール/Hi-Fi GIRLs PROJECT/ゆるっと革命団/ラプラス/藍色アステリズム/恋情アークライト/純真アムレット/終末のアンセム/PrincessGarden-TOKYO-/\nHALO PALLETE/ヒトノユメ/MORE*/セツナソウ/みらくる☆ふぉーぜ/flawless POP./未完成のキャラメル/HIRAETH.Tokyo/AILOS/彗星のスターティア*/mignon/mintleaf/FandL/おーらびっと/ヴィランの掟/NCHD-のちほど-/くれよんちゅ〜どく/Reve Pocket/白のエレガンシー
URL:https://hiraeth.tokyo/event/%e3%83%a9%e3%82%a4%e3%83%96%ef%bc%a0%e6%9c%89%e6%98%8e%e3%82%b9%e3%83%a2%e3%83%bc%e3%83%ab%e3%83%af%e3%83%bc%e3%83%ab%e3%82%ba%e6%9d%b1%e4%ba%ac-2/
ATTACH;FMTTYPE=image/jpeg:https://hiraeth.tokyo/wp-content/uploads/0713-ARIAKE-KAWAII-SUPER-LIVE-2025.jpg
END:VEVENT
END:VCALENDAR