BEGIN:VCALENDAR
VERSION:2.0
PRODID:-//【HIRAETH.Tokyo】(ヒラエス.トーキョー) - ECPv6.11.2//NONSGML v1.0//EN
CALSCALE:GREGORIAN
METHOD:PUBLISH
X-ORIGINAL-URL:https://hiraeth.tokyo
X-WR-CALDESC:【HIRAETH.Tokyo】(ヒラエス.トーキョー) のイベント
REFRESH-INTERVAL;VALUE=DURATION:PT1H
X-Robots-Tag:noindex
X-PUBLISHED-TTL:PT1H
BEGIN:VTIMEZONE
TZID:Asia/Tokyo
BEGIN:STANDARD
TZOFFSETFROM:+0900
TZOFFSETTO:+0900
TZNAME:JST
DTSTART:20250101T000000
END:STANDARD
END:VTIMEZONE
BEGIN:VEVENT
DTSTART;VALUE=DATE:20250715
DTEND;VALUE=DATE:20250716
DTSTAMP:20260422T003817
CREATED:20250627T040957Z
LAST-MODIFIED:20250712T093217Z
UID:14454-1752537600-1752623999@hiraeth.tokyo
SUMMARY:☆☆ハッチャケLIVE!!＠渋谷DESEOmini
DESCRIPTION:⏰日時　7/15(火)\n📝イベント名　☆☆ハッチャケLIVE!!\n💴料金　前方チケット3\,500円 一般チケット2\,000円　当日+500円　(入場時1ドリンク必須)\n🎫予約　https://t.livepocket.jp/e/382mv\n🎤LIVE　20:30〜20:50\n📸物販　終演後物販\n📍会場　渋谷DESEOmini\n🚪開場　16:30\n💃開演　17:00 (予定)\n👩🏼‍💻出演　HIRAETH.Tokyo / 異世界アイドル☆パラレルパレード / パラパレキッズ / GIRLY MOON PROJECT / wqwq / はいどーも！テラスマです！ / 神聖マキナ / RETRORAIN / ビビきたッ！！ / ぺりきゅらむ
URL:https://hiraeth.tokyo/event/%e3%83%a9%e3%82%a4%e3%83%96%ef%bc%a0%e6%b8%8b%e8%b0%b7deseomini/
ATTACH;FMTTYPE=image/png:https://hiraeth.tokyo/wp-content/uploads/HACCHAKE0715_Flyer02_A2.png
END:VEVENT
END:VCALENDAR