BEGIN:VCALENDAR
VERSION:2.0
PRODID:-//【HIRAETH.Tokyo】(ヒラエス.トーキョー) - ECPv6.11.2//NONSGML v1.0//EN
CALSCALE:GREGORIAN
METHOD:PUBLISH
X-ORIGINAL-URL:https://hiraeth.tokyo
X-WR-CALDESC:【HIRAETH.Tokyo】(ヒラエス.トーキョー) のイベント
REFRESH-INTERVAL;VALUE=DURATION:PT1H
X-Robots-Tag:noindex
X-PUBLISHED-TTL:PT1H
BEGIN:VTIMEZONE
TZID:Asia/Tokyo
BEGIN:STANDARD
TZOFFSETFROM:+0900
TZOFFSETTO:+0900
TZNAME:JST
DTSTART:20250101T000000
END:STANDARD
END:VTIMEZONE
BEGIN:VEVENT
DTSTART;VALUE=DATE:20250716
DTEND;VALUE=DATE:20250717
DTSTAMP:20260422T003818
CREATED:20250508T062502Z
LAST-MODIFIED:20250714T023204Z
UID:13944-1752624000-1752710399@hiraeth.tokyo
SUMMARY:☆☆「SHBUYA KAWAII SUPER LIVE 2025」＠渋谷音楽堂
DESCRIPTION:⏰日時　7/16(水)\n📝イベント名　☆☆「SHBUYA KAWAII SUPER LIVE 2025」\n💴料金　前方3\,500円/一般2\,500円（各D別）\n🎫予約　https://tiget.net/events/413245\n🎤LIVE　17:50〜18:10\n📸物販　18:25〜19:15(C)\n📍会場　渋谷音楽堂\n🚪開場　14：40\n💃開演　15：00※変更される場合ございます\n👩🏼‍💻出演　昼夜逆転、BANZAI JAPAN、ANA®KIE、Falench.、Relly Candy、にっぽん！真骨頂、キプリスモルホォ、Hi-Fi GIRLs PROJECT:Amelia、Hi-Fi GIRLs PROJECT:ORBIT、HIRAETH.Tokyo、心粹ユーフォリア、AILOS、mignon、PATI PATI CANDY…☆ （ひまわり・さくら）、FandL、おーらびっと、くれよんちゅ〜どく、ヴィランの掟、真夜中の魔法少女\nand more…
URL:https://hiraeth.tokyo/event/%e2%98%86%e2%98%86%e3%83%a9%e3%82%a4%e3%83%96%ef%bc%a0%e6%b8%8b%e8%b0%b7%e9%9f%b3%e6%a5%bd%e5%a0%82/
ATTACH;FMTTYPE=image/jpeg:https://hiraeth.tokyo/wp-content/uploads/0716-SHBUYA-KAWAII-SUPER-LIVE-2025.jpg
END:VEVENT
END:VCALENDAR