BEGIN:VCALENDAR
VERSION:2.0
PRODID:-//【HIRAETH.Tokyo】(ヒラエス.トーキョー) - ECPv6.11.2//NONSGML v1.0//EN
CALSCALE:GREGORIAN
METHOD:PUBLISH
X-WR-CALNAME:【HIRAETH.Tokyo】(ヒラエス.トーキョー)
X-ORIGINAL-URL:https://hiraeth.tokyo
X-WR-CALDESC:【HIRAETH.Tokyo】(ヒラエス.トーキョー) のイベント
REFRESH-INTERVAL;VALUE=DURATION:PT1H
X-Robots-Tag:noindex
X-PUBLISHED-TTL:PT1H
BEGIN:VTIMEZONE
TZID:Asia/Tokyo
BEGIN:STANDARD
TZOFFSETFROM:+0900
TZOFFSETTO:+0900
TZNAME:JST
DTSTART:20250101T000000
END:STANDARD
END:VTIMEZONE
BEGIN:VEVENT
DTSTART;VALUE=DATE:20250718
DTEND;VALUE=DATE:20250719
DTSTAMP:20260422T003807
CREATED:20250524T103234Z
LAST-MODIFIED:20250706T165249Z
UID:14152-1752796800-1752883199@hiraeth.tokyo
SUMMARY:☆☆『横Fes-ヨコフェス-』＠中野坂上S.U.B
DESCRIPTION:⏰日時　7/18(金)\n📝イベント名　☆☆『横Fes-ヨコフェス-』\n💴料金　前方Sチケット¥3\,500 / 一般Aチケット¥2\,000/※各1D\n🎫予約　https://t.livepocket.jp/e/yokofes0718\n🎤LIVE　16:10〜16:30\n📸物販　16:35〜17:35(C)\n📍会場　中野坂上S.U.B\n🚪開場　15:50\n💃開演　16:10\n👩🏼‍💻出演　踊れ！神風/ステラリオン/HIRAETH.Tokyo/IDOLEST/LOVE PANIC!/KOIHAJI/バブルバビデガム∀/遥か、彼方。/CoTei/恋に落ちる確率は限りなく低いが0じゃない/ぺりきゅらむ/BabyDoll/neOen/真夜中の魔法少女
URL:https://hiraeth.tokyo/event/%e2%98%86%e2%98%86%e3%83%a9%e3%82%a4%e3%83%96%ef%bc%a0%e4%b8%ad%e9%87%8e%e5%9d%82%e4%b8%8as-u-b-7/
ATTACH;FMTTYPE=image/jpeg:https://hiraeth.tokyo/wp-content/uploads/横Fesmini_0718.jpg
END:VEVENT
END:VCALENDAR