BEGIN:VCALENDAR
VERSION:2.0
PRODID:-//【HIRAETH.Tokyo】(ヒラエス.トーキョー) - ECPv6.11.2//NONSGML v1.0//EN
CALSCALE:GREGORIAN
METHOD:PUBLISH
X-ORIGINAL-URL:https://hiraeth.tokyo
X-WR-CALDESC:【HIRAETH.Tokyo】(ヒラエス.トーキョー) のイベント
REFRESH-INTERVAL;VALUE=DURATION:PT1H
X-Robots-Tag:noindex
X-PUBLISHED-TTL:PT1H
BEGIN:VTIMEZONE
TZID:Asia/Tokyo
BEGIN:STANDARD
TZOFFSETFROM:+0900
TZOFFSETTO:+0900
TZNAME:JST
DTSTART:20250101T000000
END:STANDARD
END:VTIMEZONE
BEGIN:VEVENT
DTSTART;VALUE=DATE:20250719
DTEND;VALUE=DATE:20250720
DTSTAMP:20260422T003818
CREATED:20250703T174422Z
LAST-MODIFIED:20250719T144145Z
UID:14515-1752883200-1752969599@hiraeth.tokyo
SUMMARY:夏の大感謝無料オフ会
DESCRIPTION:⏰日時　7/19(土)17:00〜19:00\n🎫予約　不要\n🎫料金　無料\n🎫解禁　タイテが確定次第即時で告知\n🎁特典　写メ券5枚\n📍会場　新宿中央公園\n👩🏼‍💻出演　HIRAETH.Tokyo \nーーーー \n◆Q＆A\n▽待ちものは？\n特に必要ございません！当日のスタッフにオフ会参加の旨をお伝えし特典とお引き換えし、お楽しみください！ \n▽途中参加退出あり？\n時間内でしたら参加可能です！ \n▽持ち込みは可能？\n基本的に可能ですが一般常識の範囲内でお願いいたします！\nまた飲食物の場合、手作りのお品、生物はご遠慮いただきますようお願いいたします。 \n▽写メ券での撮影はスマホカメラどちらも可能？\nどちらも可能ですが、撮影する際はメンバー、スタッフへ確認をお願いいたします！ \nーーーー \n※屋外の為、天候やメンバーの状況によっては延期になる場合もございます！その場合はまた公式から告知いたしますのでお楽しみに！
URL:https://hiraeth.tokyo/event/%e4%ba%88%e5%ae%9a%e3%81%82%e3%82%8a-2/
END:VEVENT
END:VCALENDAR