BEGIN:VCALENDAR
VERSION:2.0
PRODID:-//【HIRAETH.Tokyo】(ヒラエス.トーキョー) - ECPv6.11.2//NONSGML v1.0//EN
CALSCALE:GREGORIAN
METHOD:PUBLISH
X-ORIGINAL-URL:https://hiraeth.tokyo
X-WR-CALDESC:【HIRAETH.Tokyo】(ヒラエス.トーキョー) のイベント
REFRESH-INTERVAL;VALUE=DURATION:PT1H
X-Robots-Tag:noindex
X-PUBLISHED-TTL:PT1H
BEGIN:VTIMEZONE
TZID:Asia/Tokyo
BEGIN:STANDARD
TZOFFSETFROM:+0900
TZOFFSETTO:+0900
TZNAME:JST
DTSTART:20250101T000000
END:STANDARD
END:VTIMEZONE
BEGIN:VEVENT
DTSTART;VALUE=DATE:20250722
DTEND;VALUE=DATE:20250723
DTSTAMP:20260422T003817
CREATED:20250630T073003Z
LAST-MODIFIED:20250712T061331Z
UID:14494-1753142400-1753228799@hiraeth.tokyo
SUMMARY:☆☆夜とメルク定期公演2025 vol.7 2部＠神田CLUB F#
DESCRIPTION:⏰日時　7/22(火)\n📝イベント名　☆☆夜とメルク定期公演2025 vol.7 2部\n💴料金　前売り￥2\,500 / 当日￥3\,000 （各＋１D）\n🎫予約　https://t.livepocket.jp/e/yorumeru2508-2\n🎫情報解禁　7/13 21:00\n🎫チケ発　7/14 21:30\n🎤LIVE　19:45-20:15\n📸物販　終演後物販\n📍会場　神田CLUB F#\n🚪開場　19:00\n💃開演　19:15\n👩🏼‍💻出演　夜とメルク\,LUNCH KIDS\,-HIRAETH .Tokyo-
URL:https://hiraeth.tokyo/event/%e3%83%a9%e3%82%a4%e3%83%96%ef%bc%a0%e7%a5%9e%e7%94%b0club-f/
ATTACH;FMTTYPE=image/jpeg:https://hiraeth.tokyo/wp-content/uploads/S__4964417.jpg
END:VEVENT
END:VCALENDAR