BEGIN:VCALENDAR
VERSION:2.0
PRODID:-//【HIRAETH.Tokyo】(ヒラエス.トーキョー) - ECPv6.11.2//NONSGML v1.0//EN
CALSCALE:GREGORIAN
METHOD:PUBLISH
X-WR-CALNAME:【HIRAETH.Tokyo】(ヒラエス.トーキョー)
X-ORIGINAL-URL:https://hiraeth.tokyo
X-WR-CALDESC:【HIRAETH.Tokyo】(ヒラエス.トーキョー) のイベント
REFRESH-INTERVAL;VALUE=DURATION:PT1H
X-Robots-Tag:noindex
X-PUBLISHED-TTL:PT1H
BEGIN:VTIMEZONE
TZID:Asia/Tokyo
BEGIN:STANDARD
TZOFFSETFROM:+0900
TZOFFSETTO:+0900
TZNAME:JST
DTSTART:20250101T000000
END:STANDARD
END:VTIMEZONE
BEGIN:VEVENT
DTSTART;VALUE=DATE:20250726
DTEND;VALUE=DATE:20250727
DTSTAMP:20260422T003807
CREATED:20250513T082657Z
LAST-MODIFIED:20250722T153045Z
UID:14003-1753488000-1753574399@hiraeth.tokyo
SUMMARY:☆☆☆☆TOKYO GIRLS GIRLS　~ 5th Anniversary day2 ~＠品川インターシティホール / 品川グランドホール
DESCRIPTION:⏰日時　7/26(土)\n📝イベント名　☆☆TOKYO GIRLS GIRLS　~ 5th Anniversary day2 ~\n💴料金　前方10000円 通常4000円 当日5000円(入場時1ドリンク必須)\n🎫予約　https://tiget.net/events/404003\n🎤LIVE　11:50〜12:05\n📸物販　12:20〜13:30(D)\n🎁指名特典　\n🌟サインありチェキ券1枚！\n🌟コメント付き写メ券1枚！\n🌟ポイント20！\n🌟うでずもう券！\n🌟20秒動画券！\n📍会場　品川インターシティホール / 品川グランドホール\n🚪開場　8:00\n💃開演　8:20\n👩🏼‍💻出演　HIRAETH.Tokyo  / かすみ草とステラ / シンデレラ宣言！ / なみだ色の消しごむ / シュレーディンガーの犬 / Toi Toi Toi / アキシブproject / マジカル・パンチライン  / STAiNY / TEAR DROP! / THE ENCORE / ワンダーウィード 天 / 花いろは / 君と見るそら / 虹色の飛行少女 / 点染テンセイ少女。 / Alcute！ / 夢みるアドレセンス / Melty BeaR / SAI²Rium / DREAMING MONSTER / HIGH SPIRITS / I MY ME MINE / 雨のち、ハレーション / すてねこキャッツ / LIT MOON / 神薙ラビッツ / しろもん / miao / OLNew / Malcolm Mask McLaren / ひめもすオーケストラ / みらサプ！ / As a Cutie Pomeranian / プエラの絶対値 / IDOLEST / 泡沫パーティーズ / &CUTE / NiLUNLOCK / alma / kimikara（きみから） / LOVEME / airrow / Lily wonder / 脳内パステル / オカシリゾート / HAKUSULA / MiX BeRRY / INSPIRE / ストロボグリッター / GeMuse / 蛍 / ポラリスマイル / Ep!codE / iSPY / ドキドキハキミノセイ / HIRAETH.Tokyo / ZeroProject Z2-A1 / ZeroProject Z2-A2 / ZeroProject Z2-A4 / ZeroProject Z2-B4
URL:https://hiraeth.tokyo/event/%e3%83%a9%e3%82%a4%e3%83%96%ef%bc%a0%ef%bc%9f%ef%bc%9f%ef%bc%9f/
ATTACH;FMTTYPE=image/png:https://hiraeth.tokyo/wp-content/uploads/IMG_9048.png
END:VEVENT
BEGIN:VEVENT
DTSTART;VALUE=DATE:20250726
DTEND;VALUE=DATE:20250727
DTSTAMP:20260422T003807
CREATED:20250508T062906Z
LAST-MODIFIED:20250723T064604Z
UID:13950-1753488000-1753574399@hiraeth.tokyo
SUMMARY:「JAPAN IDOL SUPER LIVE 2025」＠SUPERNOVA KAWASAKI
DESCRIPTION:⏰日時　7/26(土)\n📝イベント名　「JAPAN IDOL SUPER LIVE 2025」\n💴料金　一般3\,000円　前方優先5\,000円　各D別\n🎫予約　https://t-dv.com/lZkD5G2AUA9Sr1\n🎤LIVE　16:45〜17:05\n📸物販　17:15〜18:05(A)\n📍会場　SUPERNOVA KAWASAKI\n🚪開場　9：30\n💃開演　9：50（予定）\n👩🏼‍💻出演　OS☆U/#MOUWAY/イイトコドリ。/BOCCHI。/まぶだちゅ！/Blueberry Girls/きゅんﾀﾋに一生を⁉/ミリフェア/ゆるっと革命団/ラプラス/藍色アステリズム/恋情アークライト/純真アムレット/PrincessGarden-TOKYO-/parfait d’ange/chocolat d’ange/flawless POP./異世界アイドル☆パラレルパレード/Hi-Fi GIRLs PROJECT:LUNARIA/Hi-Fi GIRLs PROJECT:ORBIT/キプリスモルホォ/HALO PALLETE/ヒトノユメ/ソラネルカンパニー/RiRee/ESTLINK☆/Ramu’z/アイドルは下剋上/HIRAETH.Tokyo/キュン!?恋堕ちキューピッド/ルシフェルの園。/Goodbye for First kiss/最後の夏休み。/セツナソウ/AILOS/はくchu♡む/Reve Pocket/彗星のスターティア*/PATI PATI CANDY…☆ （ひまわり・さくら）/FandL/おーらびっと/NCHD-のちほど-
URL:https://hiraeth.tokyo/event/%e3%83%a9%e3%82%a4%e3%83%96%ef%bc%a0%e5%b7%9d%e5%b4%8e%e3%82%b9%e3%83%9a%e3%83%ab%e3%83%8e%e3%83%bc%e3%83%90/
ATTACH;FMTTYPE=image/jpeg:https://hiraeth.tokyo/wp-content/uploads/0726-JAPAN-IDOL-SUPER-LIVE-2025高解像度.jpg
END:VEVENT
END:VCALENDAR