BEGIN:VCALENDAR
VERSION:2.0
PRODID:-//【HIRAETH.Tokyo】(ヒラエス.トーキョー) - ECPv6.11.2//NONSGML v1.0//EN
CALSCALE:GREGORIAN
METHOD:PUBLISH
X-WR-CALNAME:【HIRAETH.Tokyo】(ヒラエス.トーキョー)
X-ORIGINAL-URL:https://hiraeth.tokyo
X-WR-CALDESC:【HIRAETH.Tokyo】(ヒラエス.トーキョー) のイベント
REFRESH-INTERVAL;VALUE=DURATION:PT1H
X-Robots-Tag:noindex
X-PUBLISHED-TTL:PT1H
BEGIN:VTIMEZONE
TZID:Asia/Tokyo
BEGIN:STANDARD
TZOFFSETFROM:+0900
TZOFFSETTO:+0900
TZNAME:JST
DTSTART:20250101T000000
END:STANDARD
END:VTIMEZONE
BEGIN:VEVENT
DTSTART;VALUE=DATE:20250730
DTEND;VALUE=DATE:20250731
DTSTAMP:20260422T002344
CREATED:20250508T063229Z
LAST-MODIFIED:20250728T054650Z
UID:13954-1753833600-1753919999@hiraeth.tokyo
SUMMARY:☆☆「SHBUYA KAWAII SUPER LIVE 2025」＠渋谷音楽堂
DESCRIPTION:⏰日時　7/30(水)\n📝イベント名　☆☆「SHBUYA KAWAII SUPER LIVE 2025」\n💴料金　前方3\,500円/一般2\,500円（各D別）\n🎫予約　https://tiget.net/events/413773\n🎫チケ発　7/10　12時\n🎤LIVE　18:00〜18:20\n📸物販　18:35〜19:25(B)\n📍会場　渋谷音楽堂\n🚪開場　12：00\n💃開演　12：30予定\n👩🏼‍💻出演　I MY ME MINE/Bunny La Crew/しろもん/BANZAI JAPAN/Mighty Parfait/ゆるっと革命団/純真アムレット/Hi-Fi GIRLs PROJECT:LUNARIA/Hi-Fi GIRLs PROJECT:ORBIT/Blueberry Girls/PrincessGarden-TOKYO-/chocolat d’ange/flawless POP./HIRAETH.Tokyo/RUN WiTH YOU/キプリスモルホォ/ESTLINK☆/Ramu’z/神聖マキナ/キュン!?恋堕ちキューピッド/ルシフェルの園。/憑依中毒-シャーマンホリック-/LapisBell/AILOS/NCHD-のちほど-/くれよんちゅ〜どく/ヴィランの掟/mintleaf
URL:https://hiraeth.tokyo/event/%e3%83%a9%e3%82%a4%e3%83%96%ef%bc%a0%e6%b8%8b%e8%b0%b7%e9%9f%b3%e6%a5%bd%e5%a0%82-7/
ATTACH;FMTTYPE=image/jpeg:https://hiraeth.tokyo/wp-content/uploads/0730-SHBUYA-KAWAII-SUPER-LIVE-2025-2.jpg
END:VEVENT
END:VCALENDAR