BEGIN:VCALENDAR
VERSION:2.0
PRODID:-//【HIRAETH.Tokyo】(ヒラエス.トーキョー) - ECPv6.11.2//NONSGML v1.0//EN
CALSCALE:GREGORIAN
METHOD:PUBLISH
X-ORIGINAL-URL:https://hiraeth.tokyo
X-WR-CALDESC:【HIRAETH.Tokyo】(ヒラエス.トーキョー) のイベント
REFRESH-INTERVAL;VALUE=DURATION:PT1H
X-Robots-Tag:noindex
X-PUBLISHED-TTL:PT1H
BEGIN:VTIMEZONE
TZID:Asia/Tokyo
BEGIN:STANDARD
TZOFFSETFROM:+0900
TZOFFSETTO:+0900
TZNAME:JST
DTSTART:20250101T000000
END:STANDARD
END:VTIMEZONE
BEGIN:VEVENT
DTSTART;VALUE=DATE:20250808
DTEND;VALUE=DATE:20250809
DTSTAMP:20260422T023621
CREATED:20250623T071534Z
LAST-MODIFIED:20250803T084506Z
UID:14419-1754611200-1754697599@hiraeth.tokyo
SUMMARY:JOYSOUND祭り＠上野恩賜公園野外ステージ
DESCRIPTION:⏰日時　8/8\n📝イベント名　JOYSOUND祭り\n💴料金　前売¥0 当日¥0\n🎫予約　不要\n🎤LIVE　16:10〜16:30\n📸物販　16:30〜17:30\n📍会場　上野恩賜公園野外ステージ\n🚪開場　12:00\n💃開演　15:30\n👩🏼‍💻出演　HIRAETH.Tokyo 他
URL:https://hiraeth.tokyo/event/%e3%83%a9%e3%82%a4%e3%83%96%ef%bc%a0-8/
ATTACH;FMTTYPE=image/jpeg:https://hiraeth.tokyo/wp-content/uploads/IMG_9622.jpg
END:VEVENT
END:VCALENDAR