BEGIN:VCALENDAR
VERSION:2.0
PRODID:-//【HIRAETH.Tokyo】(ヒラエス.トーキョー) - ECPv6.11.2//NONSGML v1.0//EN
CALSCALE:GREGORIAN
METHOD:PUBLISH
X-WR-CALNAME:【HIRAETH.Tokyo】(ヒラエス.トーキョー)
X-ORIGINAL-URL:https://hiraeth.tokyo
X-WR-CALDESC:【HIRAETH.Tokyo】(ヒラエス.トーキョー) のイベント
REFRESH-INTERVAL;VALUE=DURATION:PT1H
X-Robots-Tag:noindex
X-PUBLISHED-TTL:PT1H
BEGIN:VTIMEZONE
TZID:Asia/Tokyo
BEGIN:STANDARD
TZOFFSETFROM:+0900
TZOFFSETTO:+0900
TZNAME:JST
DTSTART:20250101T000000
END:STANDARD
END:VTIMEZONE
BEGIN:VEVENT
DTSTART;VALUE=DATE:20250811
DTEND;VALUE=DATE:20250812
DTSTAMP:20260422T020016
CREATED:20250803T115105Z
LAST-MODIFIED:20250805T100707Z
UID:14795-1754870400-1754956799@hiraeth.tokyo
SUMMARY:『TALE N.T. FESTA FREELIVE Vol.special』＠五反田G7
DESCRIPTION:⏰日時　8月11日(月祝)\n📝イベント名　『TALE N.T. FESTA FREELIVE Vol.special』\n💴料金　一般¥0/優先¥2\,000 / 当日各+¥500 (別途各＋2D 1200円)\n🎫予約　https://tiget.net/events/420202\n🎤LIVE　19:45〜20:05\n📸物販　20:10〜21:10(B)\n📍会場　五反田G7\n🚪開場　13:00\n💃開演　13:10\n👩🏼‍💻出演　HIRAETH.Tokyo / アズラ＝メレク / &and / Lって何のLですか？ / オルヘルの羽 / キミリセット / ゲシュタルトの祈り / READY TO KISS / SAY-LA / せいら / 世界逆転宣言！ / ちお / ディサイダー / HIRAETH.Tokyo / FloreRisa / HOT DOG CAT / Mizore / ミライサガシ～MIRAISAGASHI～ /  Larmelia / 笑う門には福来たる / RIOTTIKA / ヒトノユメ / Lilly muse / 未完成のキャラメル
URL:https://hiraeth.tokyo/event/%e3%83%a9%e3%82%a4%e3%83%96%ef%bc%a0%e4%ba%94%e5%8f%8d%e7%94%b0g7-3/
ATTACH;FMTTYPE=image/jpeg:https://hiraeth.tokyo/wp-content/uploads/20250811TALE-NT-FREE-special_.jpg
END:VEVENT
BEGIN:VEVENT
DTSTART;VALUE=DATE:20250811
DTEND;VALUE=DATE:20250812
DTSTAMP:20260422T020016
CREATED:20250803T115000Z
LAST-MODIFIED:20250809T151621Z
UID:14793-1754870400-1754956799@hiraeth.tokyo
SUMMARY:ByteSchwarz定期公演vol.21＠神田CLUB F#
DESCRIPTION:⏰日時　8/11(月)\n📝イベント名　ByteSchwarz定期公演vol.21\n💴料金　前売り￥2500/当日＋￥500（＋1D）\n🎫予約　https://t.livepocket.jp/e/ikwws\n🎤LIVE　12:30〜12:50\n📸物販　13:30〜14:30\n📍会場　神田CLUB F#\n🚪開場　11:00\n💃開演　11:15\n👩🏼‍💻出演　ByteSchwarz/koyoka/HIRAETH.TOKYO
URL:https://hiraeth.tokyo/event/%e3%83%a9%e3%82%a4%e3%83%96%ef%bc%a0%e7%a5%9e%e7%94%b0club-f-3/
ATTACH;FMTTYPE=image/jpeg:https://hiraeth.tokyo/wp-content/uploads/96093.jpg
END:VEVENT
END:VCALENDAR