BEGIN:VCALENDAR
VERSION:2.0
PRODID:-//【HIRAETH.Tokyo】(ヒラエス.トーキョー) - ECPv6.11.2//NONSGML v1.0//EN
CALSCALE:GREGORIAN
METHOD:PUBLISH
X-WR-CALNAME:【HIRAETH.Tokyo】(ヒラエス.トーキョー)
X-ORIGINAL-URL:https://hiraeth.tokyo
X-WR-CALDESC:【HIRAETH.Tokyo】(ヒラエス.トーキョー) のイベント
REFRESH-INTERVAL;VALUE=DURATION:PT1H
X-Robots-Tag:noindex
X-PUBLISHED-TTL:PT1H
BEGIN:VTIMEZONE
TZID:Asia/Tokyo
BEGIN:STANDARD
TZOFFSETFROM:+0900
TZOFFSETTO:+0900
TZNAME:JST
DTSTART:20250101T000000
END:STANDARD
END:VTIMEZONE
BEGIN:VEVENT
DTSTART;VALUE=DATE:20250812
DTEND;VALUE=DATE:20250813
DTSTAMP:20260422T020015
CREATED:20250701T112238Z
LAST-MODIFIED:20250805T102441Z
UID:14500-1754956800-1755043199@hiraeth.tokyo
SUMMARY:☆☆ギガソニmini＠Zirco Tokyo
DESCRIPTION:⏰日時　8月12日(火)\n📝イベント名　☆☆ギガソニmini\n💴料金　前方¥4\,000　一般¥2\,000\n🎫予約　https://tiget.net/events/418746\n🎤LIVE　19:40〜20:00\n📸物販　20:15〜21:15(A)\n📍会場　Zirco Tokyo\n🚪開場　16:00\n💃開演　16:30\n👩🏼‍💻出演　HIRAETH.Tokyo / MOON RABBiTS / むーぷり / HIRAETH.Tokyo/ &DreaMy / Amairo-Flip / ぶっとび！パンデミック / DYNAMAX / にっぽんワチャチャ / ミニワチャ / LittleSignal
URL:https://hiraeth.tokyo/event/%e3%83%a9%e3%82%a4%e3%83%96%ef%bc%a0zirco-tokyo-10/
ATTACH;FMTTYPE=image/jpeg:https://hiraeth.tokyo/wp-content/uploads/S__70975626.jpg
END:VEVENT
END:VCALENDAR