BEGIN:VCALENDAR
VERSION:2.0
PRODID:-//【HIRAETH.Tokyo】(ヒラエス.トーキョー) - ECPv6.11.2//NONSGML v1.0//EN
CALSCALE:GREGORIAN
METHOD:PUBLISH
X-WR-CALNAME:【HIRAETH.Tokyo】(ヒラエス.トーキョー)
X-ORIGINAL-URL:https://hiraeth.tokyo
X-WR-CALDESC:【HIRAETH.Tokyo】(ヒラエス.トーキョー) のイベント
REFRESH-INTERVAL;VALUE=DURATION:PT1H
X-Robots-Tag:noindex
X-PUBLISHED-TTL:PT1H
BEGIN:VTIMEZONE
TZID:Asia/Tokyo
BEGIN:STANDARD
TZOFFSETFROM:+0900
TZOFFSETTO:+0900
TZNAME:JST
DTSTART:20250101T000000
END:STANDARD
END:VTIMEZONE
BEGIN:VEVENT
DTSTART;VALUE=DATE:20250813
DTEND;VALUE=DATE:20250814
DTSTAMP:20260422T020034
CREATED:20250614T074145Z
LAST-MODIFIED:20250812T050118Z
UID:14368-1755043200-1755129599@hiraeth.tokyo
SUMMARY:☆☆「SHBUYA KAWAII SUPER LIVE 2025」＠渋谷音楽堂
DESCRIPTION:⏰日時　8/13(水)\n📝イベント名　☆☆「SHBUYA KAWAII SUPER LIVE 2025」\n💴料金　前方3\,500円/一般2\,500円（各D別）\n🎫予約　https://tiget.net/events/417803　\n🎤LIVE　17:55〜18:15\n📸物販　18:30〜19:20(C)\n📍会場　渋谷音楽堂\n🚪開場　10：00\n💃開演　10：30予定※変更される場合ございます\n👩🏼‍💻出演　HIRAETH.Tokyo、SUPER JYAPON、BAKUMON、KATA☆CHU、Relly Candy、ぶっとび！パンデミック、DYNAMAX、KATACOTO＊BANK、4864.、まぶだちゅ！、アンクライシス、IDOLEST、異世界アイドル☆パラレルパレード、パラパレキッズ、神聖マキナ、vVibe!、らびゅあたっく。、LapisBell、parfait d’ange、chocolat d’ange、AILOS、LUNCH KIDS、翔んでファレノプシス、HIRAETH.Tokyo、Misty Syrena、いつだって青い春。、PATI PATI CANDY…☆、FandL、おーらびっと、Stellar Princess、撫子の音返し、レプスルプス
URL:https://hiraeth.tokyo/event/%e2%98%86%e2%98%86%e3%83%a9%e3%82%a4%e3%83%96%ef%bc%a0%e6%b8%8b%e8%b0%b7%e9%9f%b3%e6%a5%bd%e5%a0%82-2/
ATTACH;FMTTYPE=image/jpeg:https://hiraeth.tokyo/wp-content/uploads/0813　SHBUYA-KAWAII-SUPER-LIVE-2025-1.jpg
END:VEVENT
BEGIN:VEVENT
DTSTART;VALUE=DATE:20250813
DTEND;VALUE=DATE:20250814
DTSTAMP:20260422T020034
CREATED:20250616T034450Z
LAST-MODIFIED:20250811T123548Z
UID:14391-1755043200-1755129599@hiraeth.tokyo
SUMMARY:『NEO IDOLEGION FREELIVE Vol 90』＠新宿DHNoA
DESCRIPTION:⏰日時　8/13(水)\n📝イベント名　『NEO IDOLEGION FREELIVE Vol 90』\n💴料金　一般¥0/優先¥2\,000(先行予約)/当日+¥500(別途1D 600円)\n🎫予約　https://t-dv.com/idolegion90\n🎤LIVE　21:25〜21:40\n📸物販　21:45〜22:35(B)\n📍会場　新宿DHNoA\n🚪開場　12:25\n💃開演　12:35\n👩🏼‍💻出演　#あいり～む / IWI! / InsecureDOLL  / アプセルフ / 磯野未来  / 8FLAG / 8WIZARD / 8DOLL / オルヘルの羽 / 奏音コレクト / 神崎零 / クモリノチ。 / Grind Bunny / 恋に落ちる確率は限りなく低いが0じゃない / 最愛のマルベリー / THAT’s So  / シブヤDOMINION / ずんだ茜 / 睡眠コンプレックス / スプラウト学園 / ソロ♨️るる / TJP / Dear8 / 天上天使 / 追憶のリンドヴルム / NEOTOKYO-TRIBE / にゃんすきっ♡？ / 破天荒ヒロイズム / HIRAETH.Tokyo / FIRST DREAM / FloreRisa / 僕らのコミューン / みらくる⭐ふぉーぜ  / May Love Rouge / Larmelia / ♮リアスクライブ / Lip Too Sweet / リベルナント / 笑う門には福来たる /
URL:https://hiraeth.tokyo/event/%e3%83%a9%e3%82%a4%e3%83%96%ef%bc%a0%e6%96%b0%e5%ae%bfdhnoa-15/
ATTACH;FMTTYPE=image/jpeg:https://hiraeth.tokyo/wp-content/uploads/NEO-FREELIVE20250813.jpg
END:VEVENT
END:VCALENDAR