BEGIN:VCALENDAR
VERSION:2.0
PRODID:-//【HIRAETH.Tokyo】(ヒラエス.トーキョー) - ECPv6.11.2//NONSGML v1.0//EN
CALSCALE:GREGORIAN
METHOD:PUBLISH
X-WR-CALNAME:【HIRAETH.Tokyo】(ヒラエス.トーキョー)
X-ORIGINAL-URL:https://hiraeth.tokyo
X-WR-CALDESC:【HIRAETH.Tokyo】(ヒラエス.トーキョー) のイベント
REFRESH-INTERVAL;VALUE=DURATION:PT1H
X-Robots-Tag:noindex
X-PUBLISHED-TTL:PT1H
BEGIN:VTIMEZONE
TZID:Asia/Tokyo
BEGIN:STANDARD
TZOFFSETFROM:+0900
TZOFFSETTO:+0900
TZNAME:JST
DTSTART:20250101T000000
END:STANDARD
END:VTIMEZONE
BEGIN:VEVENT
DTSTART;VALUE=DATE:20250814
DTEND;VALUE=DATE:20250815
DTSTAMP:20260422T023623
CREATED:20250712T170010Z
LAST-MODIFIED:20250724T161002Z
UID:14610-1755129600-1755215999@hiraeth.tokyo
SUMMARY:☆☆☆LUMINOUS BEAT＠Zirco Tokyo
DESCRIPTION:⏰日時　8月14日\n📝イベント名　☆☆☆LUMINOUS BEAT\n💴料金　前方 ¥3\,500 / 一般 ¥2\,000 / 当日券 各＋¥500（+1D代／再入場時1D代）\n🎫予約　https://tiget.net/events/416387\n🎤LIVE　19:4020:00\n📸物販　終演後物販A\n📍会場　Zirco Tokyo\n🚪開場　14:30\n💃開演　14:50（予定）\n👩🏼‍💻出演　HIRAETH.Tokyo / Claire♡Dolls / SEIEN-星宴- / 月の欠片。 / ドレスメイド / 撫子の音返し / ひとつキラリ / HIRAETH.Tokyo / ぴこちゃ！ / プエラの絶対値 / ≪√PlusF✯rt≫ルートプリュフォール / メモワールパルファム / メリーパレード / Melodys High / UNION FLEUR / ヲンド!!! / LoulouChouchou / LEVO
URL:https://hiraeth.tokyo/event/%e3%83%a9%e3%82%a4%e3%83%96%ef%bc%a0zirco-tokyo-13/
ATTACH;FMTTYPE=image/png:https://hiraeth.tokyo/wp-content/uploads/IMG_9290.png
END:VEVENT
END:VCALENDAR