BEGIN:VCALENDAR
VERSION:2.0
PRODID:-//【HIRAETH.Tokyo】(ヒラエス.トーキョー) - ECPv6.11.2//NONSGML v1.0//EN
CALSCALE:GREGORIAN
METHOD:PUBLISH
X-WR-CALNAME:【HIRAETH.Tokyo】(ヒラエス.トーキョー)
X-ORIGINAL-URL:https://hiraeth.tokyo
X-WR-CALDESC:【HIRAETH.Tokyo】(ヒラエス.トーキョー) のイベント
REFRESH-INTERVAL;VALUE=DURATION:PT1H
X-Robots-Tag:noindex
X-PUBLISHED-TTL:PT1H
BEGIN:VTIMEZONE
TZID:Asia/Tokyo
BEGIN:STANDARD
TZOFFSETFROM:+0900
TZOFFSETTO:+0900
TZNAME:JST
DTSTART:20250101T000000
END:STANDARD
END:VTIMEZONE
BEGIN:VEVENT
DTSTART;VALUE=DATE:20250816
DTEND;VALUE=DATE:20250817
DTSTAMP:20260422T020018
CREATED:20250724T104249Z
LAST-MODIFIED:20250809T151251Z
UID:14690-1755302400-1755388799@hiraeth.tokyo
SUMMARY:☆☆『妃Fes ｰキサキフェスｰ〜お盆25分SP〜』＠中野坂上S.U.B
DESCRIPTION:⏰日時　8月16日（土）\n📝イベント名　☆☆『妃Fes ｰキサキフェスｰ〜お盆25分SP〜』\n💴料金　前方Sチケット ¥4\,000、一般Aチケット ¥2\,500 、妃チケット《女性》￥1\,500\n🎫予約　https://t.livepocket.jp/e/kisakifes0816\n🎫情報解禁　8月10日（日）18:00\n🎫チケ発　8月10（日）21:00\n🎤LIVE　16:30〜16:55\n📸物販　17:00〜18:00(B)\n📍会場　中野坂上S.U.B\n🚪開場　10:40\n💃開演　11:00\n👩🏼‍💻出演　HIRAETH.Tokyo /真夜中の魔法少女/撫子の音返し/ストロボグリッター/尾崎ヒカル/HoneyParasol/きゅーんず！/ステラリオン/まぶだちゅ！/KOIHAJI/ADMIRAL×BANQUET/neOen/青春リグレット/♮リアスクライブ/May Love Rouge/Lip Too Sweet/LittleSignal/HIRAETH.Tokyo/Sunny spot/LEVO/antares/éclatcia
URL:https://hiraeth.tokyo/event/%e2%98%86%e2%98%86%e3%83%a9%e3%82%a4%e3%83%96%ef%bc%a0%e4%b8%ad%e9%87%8e%e5%9d%82%e4%b8%8as-u-b-9/
ATTACH;FMTTYPE=image/jpeg:https://hiraeth.tokyo/wp-content/uploads/S__277037059.jpg
END:VEVENT
BEGIN:VEVENT
DTSTART;VALUE=DATE:20250816
DTEND;VALUE=DATE:20250817
DTSTAMP:20260422T020018
CREATED:20250609T173453Z
LAST-MODIFIED:20250811T122224Z
UID:14329-1755302400-1755388799@hiraeth.tokyo
SUMMARY:『IDOL FABRIC vol.5』＠浅草VAMPKIN
DESCRIPTION:⏰日時　8月16日(土)\n📝イベント名　『IDOL FABRIC vol.5』\n💴料金　前方4\,500円/一般2\,500円（各+1D）当日＋500円\n🎫予約　https://ticketdive.com/event/idolfabric5　\n🎤LIVE　9:35〜9:55\n📸物販　10:05〜11:05(B)\n📍会場　浅草VAMPKIN\n🚪開場　9:30\n💃開演　9:45\n👩🏼‍💻出演　HIRAETH.Tokyo /Arno/vVibe!/オトメルキュール/オルヘルの羽/折れないしっぽ/ガブっと！ひゃっきおとめ/カンロヂ/気まぐれモンスター/煌きメリー☆ボップ/最愛のマルベリー/青春のフロンティア/宇宙カラノ侵略者/Talkie Tokyo/はいどーも！テラスマです！/Palpitink/ビビきたッ！！/ひめもすオーケストラ/HIRAETH.Tokyo/ふぁにまるキングダム/Fancy Film*/flawless POP./瞬きのネビュラ/MARUKADO/むーぷり/MOON RABBiTS/もう少し君と/RUN WiTH YOU/ReverseTokyo/るるぱにっく!!/wonder channel/DOKUDOKU/花ノぷりんせす/ひろぷらす+/Baby inspire
URL:https://hiraeth.tokyo/event/%e3%83%a9%e3%82%a4%e3%83%96%ef%bc%a0%e6%b5%85%e8%8d%89vampkin-4/
ATTACH;FMTTYPE=image/png:https://hiraeth.tokyo/wp-content/uploads/IMG_9777-1.png
END:VEVENT
END:VCALENDAR