BEGIN:VCALENDAR
VERSION:2.0
PRODID:-//【HIRAETH.Tokyo】(ヒラエス.トーキョー) - ECPv6.11.2//NONSGML v1.0//EN
CALSCALE:GREGORIAN
METHOD:PUBLISH
X-WR-CALNAME:【HIRAETH.Tokyo】(ヒラエス.トーキョー)
X-ORIGINAL-URL:https://hiraeth.tokyo
X-WR-CALDESC:【HIRAETH.Tokyo】(ヒラエス.トーキョー) のイベント
REFRESH-INTERVAL;VALUE=DURATION:PT1H
X-Robots-Tag:noindex
X-PUBLISHED-TTL:PT1H
BEGIN:VTIMEZONE
TZID:Asia/Tokyo
BEGIN:STANDARD
TZOFFSETFROM:+0900
TZOFFSETTO:+0900
TZNAME:JST
DTSTART:20250101T000000
END:STANDARD
END:VTIMEZONE
BEGIN:VEVENT
DTSTART;VALUE=DATE:20250820
DTEND;VALUE=DATE:20250821
DTSTAMP:20260422T020021
CREATED:20250616T034605Z
LAST-MODIFIED:20250819T051054Z
UID:14394-1755648000-1755734399@hiraeth.tokyo
SUMMARY:『NEO IDOLEGION FREELIVE Vol 91』＠新宿DHNoA
DESCRIPTION:⏰日時　8/20(水)\n📝イベント名　『NEO IDOLEGION FREELIVE Vol 91』\n💴料金　一般¥0/優先¥2\,000(先行予約)/当日+¥500(別途1D 600円)\n🎫予約　https://t-dv.com/idolegion91\n🎤LIVE　21:55〜22:10\n📸物販　前物販20:20〜20:40、終演後物販22:15〜22:45\n📍会場　新宿DHNoA\n🚪開場　12:25\n💃開演　12:35\n👩🏼‍💻出演　#あいり～む /アズラ＝メレク / 雨上がりにしか虹はかからない / 蓋然性オルトイズム / 8FLAG / 8WIZARD / 8DOLL / 神崎零 / キミリセット / Claire♡Dolls / クモリノチ。 / 恋に落ちる確率は限りなく低いが0じゃない / Coloration / THAT’s So  / Sistersあにま / シブヤDOMINION / 心粹ユーフォリア / 睡眠コンプレックス / スプラウト学園 / 追憶のリンドヴルム / TEARS-ティアーズ- / Dear8 / TJP / 月の欠片。 / にとくり。 / NEOTOKYO-TRIBE / にゃんすきっ♡？ / 破天荒ヒロイズム / ぴこちゃ! / ひとつキラリ / HIRAETH.Tokyo / Periculum / FIRST DREAM / みらくる⭐ふぉーぜ  / Misty Syrena / メモワールパルファム / ≪√PlusF✯rt≫~ﾙｰﾄﾌﾟﾘｭﾌｫｰﾙ~ / LIZZ / ミニスカポリス
URL:https://hiraeth.tokyo/event/%e3%83%a9%e3%82%a4%e3%83%96%ef%bc%a0%e6%96%b0%e5%ae%bfdhnoa-16/
ATTACH;FMTTYPE=image/jpeg:https://hiraeth.tokyo/wp-content/uploads/NEO-FREELIVE20250820.jpg
END:VEVENT
END:VCALENDAR