BEGIN:VCALENDAR
VERSION:2.0
PRODID:-//【HIRAETH.Tokyo】(ヒラエス.トーキョー) - ECPv6.11.2//NONSGML v1.0//EN
CALSCALE:GREGORIAN
METHOD:PUBLISH
X-WR-CALNAME:【HIRAETH.Tokyo】(ヒラエス.トーキョー)
X-ORIGINAL-URL:https://hiraeth.tokyo
X-WR-CALDESC:【HIRAETH.Tokyo】(ヒラエス.トーキョー) のイベント
REFRESH-INTERVAL;VALUE=DURATION:PT1H
X-Robots-Tag:noindex
X-PUBLISHED-TTL:PT1H
BEGIN:VTIMEZONE
TZID:Asia/Tokyo
BEGIN:STANDARD
TZOFFSETFROM:+0900
TZOFFSETTO:+0900
TZNAME:JST
DTSTART:20250101T000000
END:STANDARD
END:VTIMEZONE
BEGIN:VEVENT
DTSTART;VALUE=DATE:20250821
DTEND;VALUE=DATE:20250822
DTSTAMP:20260422T023623
CREATED:20250627T041104Z
LAST-MODIFIED:20250817T101926Z
UID:14456-1755734400-1755820799@hiraeth.tokyo
SUMMARY:☆☆ハッチャケLIVE！＠渋谷DESEOmini
DESCRIPTION:⏰日時　8/21(木)\n📝イベント名　☆☆ハッチャケLIVE！\n💴料金　前方チケット3\,500円 一般チケット2\,000円 当日+500円\n🎫予約　https://t.livepocket.jp/e/ktz-i\n🎤LIVE　20:20〜20:40\n📸物販　終演後物販\n📍会場　渋谷DESEOmini\n🚪開場　16:00\n💃開演　16:30(予定)\n👩🏼‍💻出演　HIRAETH.Tokyo 他
URL:https://hiraeth.tokyo/event/%e3%83%a9%e3%82%a4%e3%83%96%ef%bc%a0%e6%b8%8b%e8%b0%b7deseomini-2/
ATTACH;FMTTYPE=image/png:https://hiraeth.tokyo/wp-content/uploads/IMG_9987.png
END:VEVENT
END:VCALENDAR