BEGIN:VCALENDAR
VERSION:2.0
PRODID:-//【HIRAETH.Tokyo】(ヒラエス.トーキョー) - ECPv6.11.2//NONSGML v1.0//EN
CALSCALE:GREGORIAN
METHOD:PUBLISH
X-WR-CALNAME:【HIRAETH.Tokyo】(ヒラエス.トーキョー)
X-ORIGINAL-URL:https://hiraeth.tokyo
X-WR-CALDESC:【HIRAETH.Tokyo】(ヒラエス.トーキョー) のイベント
REFRESH-INTERVAL;VALUE=DURATION:PT1H
X-Robots-Tag:noindex
X-PUBLISHED-TTL:PT1H
BEGIN:VTIMEZONE
TZID:Asia/Tokyo
BEGIN:STANDARD
TZOFFSETFROM:+0900
TZOFFSETTO:+0900
TZNAME:JST
DTSTART:20250101T000000
END:STANDARD
END:VTIMEZONE
BEGIN:VEVENT
DTSTART;VALUE=DATE:20250825
DTEND;VALUE=DATE:20250826
DTSTAMP:20260422T020016
CREATED:20250730T114834Z
LAST-MODIFIED:20250819T050828Z
UID:14756-1756080000-1756166399@hiraeth.tokyo
SUMMARY:☆☆【FRONTIER IDOL SUMMIT@Zirco Tokyo】＠Zirco tokyo
DESCRIPTION:⏰日時　8月25日(月)\n📝イベント名　☆☆【FRONTIER IDOL SUMMIT@Zirco Tokyo】\n💴料金　前方チケット3\,500円 / 一般チケット2\,500円　当日+1\,000円　(入場時別途1D)\n🎫予約　https://t.livepocket.jp/e/fqple\n🎤LIVE　21:00〜21:20\n📸物販　終演後物販\n📍会場　Zirco tokyo\n🚪開場　15:30\n💃開演　16:00 (予定)\n👩🏼‍💻出演　HIRAETH.Tokyo / Lって何のLですか？ / HIRAETH.Tokyo / ぶっとび！パンデミック / ラビットビット / MOON RABBiTS / キプリスモルホォ / 藍色アステリズム / 純真アムレット / LapisBell / 参宮橋駅前女子 / 恋に落ちる確率は限りなく低いが0じゃない / vVibe! / リトルシグナル / Blossom Garden
URL:https://hiraeth.tokyo/event/%e2%98%86%e2%98%86%e3%83%a9%e3%82%a4%e3%83%96%ef%bc%a0zirco-tokyo-7/
ATTACH;FMTTYPE=image/png:https://hiraeth.tokyo/wp-content/uploads/IDOLSUMMIT_0825_TTFlyer01_A2.png
END:VEVENT
END:VCALENDAR