BEGIN:VCALENDAR
VERSION:2.0
PRODID:-//【HIRAETH.Tokyo】(ヒラエス.トーキョー) - ECPv6.11.2//NONSGML v1.0//EN
CALSCALE:GREGORIAN
METHOD:PUBLISH
X-ORIGINAL-URL:https://hiraeth.tokyo
X-WR-CALDESC:【HIRAETH.Tokyo】(ヒラエス.トーキョー) のイベント
REFRESH-INTERVAL;VALUE=DURATION:PT1H
X-Robots-Tag:noindex
X-PUBLISHED-TTL:PT1H
BEGIN:VTIMEZONE
TZID:Asia/Tokyo
BEGIN:STANDARD
TZOFFSETFROM:+0900
TZOFFSETTO:+0900
TZNAME:JST
DTSTART:20250101T000000
END:STANDARD
END:VTIMEZONE
BEGIN:VEVENT
DTSTART;VALUE=DATE:20250827
DTEND;VALUE=DATE:20250828
DTSTAMP:20260422T020031
CREATED:20250616T034715Z
LAST-MODIFIED:20250825T102952Z
UID:14396-1756252800-1756339199@hiraeth.tokyo
SUMMARY:『NEO IDOLEGION FREELIVE Vol 92』@新宿DHNoA
DESCRIPTION:⏰日時　8/27(水)\n📝イベント名　『NEO IDOLEGION FREELIVE Vol 92』\n💴料金　一般¥0/優先¥2\,000(先行予約)/当日+¥500(別途1D 600円)\n🎫予約　https://t-dv.com/idolegion92　\n🎤LIVE　21:25〜21:40\n📸物販　21:45〜22:35(B)\n📍会場　新宿DHNoA\n🚪開場　12:25\n💃開演　12:35\n👩🏼‍💻出演　HIRAETH.Tokyo / iDear / #あいり～む / 雨上がりにしか虹はかからない / vVibe / 8FLAG / 8WIZARD / 8DOLL / オルヘルの羽 / 彼方玲 / 傾奇隊 / 神崎零 / 擬人化にゃんた / クモリノチ。 / 禁断のティアラ / THAT’s So / 睡眠コンプレックス / スプラウト学園 / 世界逆転宣言！ / ソロ♨️るる / TJP / Dear8 / 天上天使 / ToyTicTrap / NEOTOKYO-TRIBE / にゃんすきっ♡？ / 破天荒ヒロイズム / ミニスカポリス / BrainBeat / Brave Mental Orchestra / HIRAETH.Tokyo / FIRST DREAM / FloreRisa / MASK OF GODDESS / May Love Rouge / Grind Bunny / みらくる⭐ふぉーぜ  / ♮リアスクライブ / Lip Too Sweet / 笑う門には福来たる /
URL:https://hiraeth.tokyo/event/%e3%83%a9%e3%82%a4%e3%83%96%ef%bc%a0%e6%96%b0%e5%ae%bfdhnoa-17/
ATTACH;FMTTYPE=image/jpeg:https://hiraeth.tokyo/wp-content/uploads/NEO-FREELIVE20250827.jpg
END:VEVENT
END:VCALENDAR