BEGIN:VCALENDAR
VERSION:2.0
PRODID:-//【HIRAETH.Tokyo】(ヒラエス.トーキョー) - ECPv6.11.2//NONSGML v1.0//EN
CALSCALE:GREGORIAN
METHOD:PUBLISH
X-ORIGINAL-URL:https://hiraeth.tokyo
X-WR-CALDESC:【HIRAETH.Tokyo】(ヒラエス.トーキョー) のイベント
REFRESH-INTERVAL;VALUE=DURATION:PT1H
X-Robots-Tag:noindex
X-PUBLISHED-TTL:PT1H
BEGIN:VTIMEZONE
TZID:Asia/Tokyo
BEGIN:STANDARD
TZOFFSETFROM:+0900
TZOFFSETTO:+0900
TZNAME:JST
DTSTART:20250101T000000
END:STANDARD
END:VTIMEZONE
BEGIN:VEVENT
DTSTART;VALUE=DATE:20250828
DTEND;VALUE=DATE:20250829
DTSTAMP:20260422T020033
CREATED:20250630T073119Z
LAST-MODIFIED:20250730T162418Z
UID:14497-1756339200-1756425599@hiraeth.tokyo
SUMMARY:☆☆CmajorParty~夏祭りSP~＠横浜1000club
DESCRIPTION:⏰日時　8/28\n📝イベント名　CmajorParty~夏祭りSP~\n💴料金　最前エリア￥5000(出演者集合囲み写メ付き)/カメラエリア￥5000/通常￥2000/通常早割￥1000/後方¥500/当日＋¥500(+1D)　追加ビンゴカード￥1000(当日販売のみ)　※全ての券種に1チケットにつき1ビンゴカード付き\n🎫予約　https://t.livepocket.jp/e/0828cmp　\n🎤LIVE　17:00〜17:20\n📸物販　終演後物販\n📍会場　横浜1000club\n🚪開場　14:00\n💃開演　14:30(仮)\n👩🏼‍💻出演　HIRAETH.Tokyo /BAKUMON/夜とメルク/LUNCH KIDS/ByteSchwarz/ドキドキハキミノセイ/真夜中のメリーゴーランド/ElectricGirl/HIRAETH.Tokyo/秋月舞音
URL:https://hiraeth.tokyo/event/%e3%83%a9%e3%82%a4%e3%83%96%ef%bc%a0-9/
ATTACH;FMTTYPE=image/jpeg:https://hiraeth.tokyo/wp-content/uploads/IMG_9559.jpg
END:VEVENT
END:VCALENDAR