BEGIN:VCALENDAR
VERSION:2.0
PRODID:-//【HIRAETH.Tokyo】(ヒラエス.トーキョー) - ECPv6.11.2//NONSGML v1.0//EN
CALSCALE:GREGORIAN
METHOD:PUBLISH
X-WR-CALNAME:【HIRAETH.Tokyo】(ヒラエス.トーキョー)
X-ORIGINAL-URL:https://hiraeth.tokyo
X-WR-CALDESC:【HIRAETH.Tokyo】(ヒラエス.トーキョー) のイベント
REFRESH-INTERVAL;VALUE=DURATION:PT1H
X-Robots-Tag:noindex
X-PUBLISHED-TTL:PT1H
BEGIN:VTIMEZONE
TZID:Asia/Tokyo
BEGIN:STANDARD
TZOFFSETFROM:+0900
TZOFFSETTO:+0900
TZNAME:JST
DTSTART:20250101T000000
END:STANDARD
END:VTIMEZONE
BEGIN:VEVENT
DTSTART;VALUE=DATE:20250831
DTEND;VALUE=DATE:20250901
DTSTAMP:20260422T020018
CREATED:20250724T104721Z
LAST-MODIFIED:20250823T021658Z
UID:14696-1756598400-1756684799@hiraeth.tokyo
SUMMARY:☆☆『冠Fes-カンフェス- summer』＠Zirco Tokyo
DESCRIPTION:⏰日時　8月31日(日)\n📝イベント名　☆☆『冠Fes-カンフェス- summer』\n💴料金　(前売り)前方Sチケット4\,000円 当日券5\,000円　(前売り)一般Aチケット2\,500円 当日券3\,500円　(入場時1ドリンク代必須)\n🎫予約　https://t.livepocket.jp/e/kanfes_0831\n🎤LIVE　17:00〜17:20\n📸物販　17:30〜18:30(A)\n📍会場　Zirco Tokyo\n🚪開場　11:35\n💃開演　11:50\n👩🏼‍💻出演　HIRAETH.Tokyo /踊れ！神風/夢みるアドレセンス/Glim Assembler/フィルフェリーチェ/ストロボグリッター/ドレスメイド/セカモノ/MiDi ON!/MORE*/コングラッチェ！/Drug&Drop/ドキドキハキミノセイ/Rea Lis/Lilite tune/にっぽんワチャチャ/ミニワチャ/THE POWER/BAKUMON/&CUTE/遥か、彼方。/Aivery/Try VII/HIRAETH.Tokyo/LIT MOON/ステラリオン/未完成のキャラメル/THE LibertyLights/i_andscape.
URL:https://hiraeth.tokyo/event/%e2%98%86%e2%98%86%e3%83%a9%e3%82%a4%e3%83%96%ef%bc%a0zirco-tokyo-4/
ATTACH;FMTTYPE=image/jpeg:https://hiraeth.tokyo/wp-content/uploads/IMG_0112.jpg
END:VEVENT
BEGIN:VEVENT
DTSTART;VALUE=DATE:20250831
DTEND;VALUE=DATE:20250901
DTSTAMP:20260422T020018
CREATED:20250614T074359Z
LAST-MODIFIED:20250830T030539Z
UID:14372-1756598400-1756684799@hiraeth.tokyo
SUMMARY:「JAPAN IDOL SUPER LIVE 2025」＠飛行船シアター
DESCRIPTION:⏰日時　8/31\n📝イベント名　「JAPAN IDOL SUPER LIVE 2025」＠残暑の陣編\n💴料金　一般3\,000円　前方優先5\,000円　各D別\n🎫予約　https://t-dv.com/VKA32Axn7pQUX3\n🎤LIVE　14:20〜14:35\n📸物販　14:45〜15:35(D)\n📍会場　飛行船シアター\n🚪開場　9：00\n💃開演　9：20（予定）※変更の可能性ございます\n👩🏼‍💻出演　AILOS / Amairo-Flip / いつだって青い春。/ innocentFairy /大宮I☆DOLL / ΩMG / KATACOTO＊BANK / キュン!?恋堕ちキューピッド / クモリノチ。 / SILEN / TheWORLD / 少年秘密倶楽部 / 神聖マキナ / Genesis Girl / 心粹ユーフォリア / Gの衝撃 / STELLA STELLA / ソラネルカンパニー / にぃなン / ハイシーユース/ ハートオブハーツ / HIRAETH.Tokyo / 憑依中毒-シャーマンホリック- / fairy☆elements / fairy☆dolls / ポラリスマイル /未完成のキャラメル / Misty Syrena / ミライサガシ / みらくる☆ふぉーぜ / mintleaf / May Love Rouge / 闇雲 / 夜とメルク / 代々木女子音楽院 / 4864. / Lapis / LapisBell / LUNCH KIDS / ♮リアスクライブ / Lip Too Sweet / ルシフェルの園。
URL:https://hiraeth.tokyo/event/%e3%83%a9%e3%82%a4%e3%83%96%ef%bc%a0%e9%a3%9b%e8%a1%8c%e8%88%b9%e3%82%b7%e3%82%a2%e3%82%bf%e3%83%bc-3/
ATTACH;FMTTYPE=image/jpeg:https://hiraeth.tokyo/wp-content/uploads/0831-JAPAN-IDOL-SUPER-LIVE-2025.jpg
END:VEVENT
END:VCALENDAR