BEGIN:VCALENDAR
VERSION:2.0
PRODID:-//【HIRAETH.Tokyo】(ヒラエス.トーキョー) - ECPv6.11.2//NONSGML v1.0//EN
CALSCALE:GREGORIAN
METHOD:PUBLISH
X-ORIGINAL-URL:https://hiraeth.tokyo
X-WR-CALDESC:【HIRAETH.Tokyo】(ヒラエス.トーキョー) のイベント
REFRESH-INTERVAL;VALUE=DURATION:PT1H
X-Robots-Tag:noindex
X-PUBLISHED-TTL:PT1H
BEGIN:VTIMEZONE
TZID:Asia/Tokyo
BEGIN:STANDARD
TZOFFSETFROM:+0900
TZOFFSETTO:+0900
TZNAME:JST
DTSTART:20250101T000000
END:STANDARD
END:VTIMEZONE
BEGIN:VEVENT
DTSTART;VALUE=DATE:20250903
DTEND;VALUE=DATE:20250904
DTSTAMP:20260422T054252
CREATED:20250701T112441Z
LAST-MODIFIED:20250821T131831Z
UID:14502-1756857600-1756943999@hiraeth.tokyo
SUMMARY:☆☆ギガソニmini＠Zirco Tokyo
DESCRIPTION:⏰日時　9月3日(水)\n📝イベント名　☆☆ギガソニmini\n💴料金　前方¥4\,000 / 一般¥2\,000　当日+¥1\,000 (入場時別途1D)\n🎫予約　https://tiget.net/events/420255\n🎤LIVE　15:55〜16:15\n📸物販　16:25〜17:25(C)\n📍会場　Zirco Tokyo\n🚪開場　15:00\n💃開演　15:15\n👩🏼‍💻出演　HIRAETH.Tokyo /　昼夜逆転 / LIT MOON / SUPER JYAPON / ゆいのの / ひめもすオーケストラ / 戦国アニマル極楽浄土 / 遥か、彼方。/ アイテムはてるてるのみ / ゆえない / MOON RABBiTS / ぶっとび！パンデミック / 【eN】 / Amairo-Flip / むーぷり / DYNAMAX / 思い出とプレゼント / 『Try VII』
URL:https://hiraeth.tokyo/event/%e3%83%a9%e3%82%a4%e3%83%96%ef%bc%a0zirco-tokyo-11/
ATTACH;FMTTYPE=image/jpeg:https://hiraeth.tokyo/wp-content/uploads/S__71426307.jpg
END:VEVENT
END:VCALENDAR