BEGIN:VCALENDAR
VERSION:2.0
PRODID:-//【HIRAETH.Tokyo】(ヒラエス.トーキョー) - ECPv6.11.2//NONSGML v1.0//EN
CALSCALE:GREGORIAN
METHOD:PUBLISH
X-WR-CALNAME:【HIRAETH.Tokyo】(ヒラエス.トーキョー)
X-ORIGINAL-URL:https://hiraeth.tokyo
X-WR-CALDESC:【HIRAETH.Tokyo】(ヒラエス.トーキョー) のイベント
REFRESH-INTERVAL;VALUE=DURATION:PT1H
X-Robots-Tag:noindex
X-PUBLISHED-TTL:PT1H
BEGIN:VTIMEZONE
TZID:Asia/Tokyo
BEGIN:STANDARD
TZOFFSETFROM:+0900
TZOFFSETTO:+0900
TZNAME:JST
DTSTART:20250101T000000
END:STANDARD
END:VTIMEZONE
BEGIN:VEVENT
DTSTART;VALUE=DATE:20250904
DTEND;VALUE=DATE:20250905
DTSTAMP:20260422T072544
CREATED:20250818T130644Z
LAST-MODIFIED:20250828T064347Z
UID:14923-1756944000-1757030399@hiraeth.tokyo
SUMMARY:☆☆『Your LIVE Solo』＠原宿RUIDO
DESCRIPTION:⏰日時　9/4(木)\n📝イベント名　☆☆『Your LIVE Solo』\n💴料金　前売2500円/当日3000円(1ドリンク代別途)\n🎫予約　 https://t-dv.com/yls0904\n🎫チケ発　2025/8/28(木)20:00\n🎤LIVE　19:20〜19:40\n📸物販　終演後物販\n📍会場　原宿RUIDO\n🚪開場　17:40\n💃開演　18:00\n👩🏼‍💻出演　新愛ニア（HIRAETH.Tokyo）/田北香世子（Loulouchouchou）/水湊真白（Loulouchouchou）/森山小百合（.BPM）/香椎朝陽（キミと永遠に）/木野茜（キミと永遠に）/木花美愛（撫子の音返し）/咲良花音（撫子の音返し）
URL:https://hiraeth.tokyo/event/%e2%98%86%e2%98%86%e3%83%a9%e3%82%a4%e3%83%96%ef%bc%a0%e5%8e%9f%e5%ae%bfruido/
ATTACH;FMTTYPE=image/jpeg:https://hiraeth.tokyo/wp-content/uploads/S__8798232.jpg
END:VEVENT
END:VCALENDAR