BEGIN:VCALENDAR
VERSION:2.0
PRODID:-//【HIRAETH.Tokyo】(ヒラエス.トーキョー) - ECPv6.11.2//NONSGML v1.0//EN
CALSCALE:GREGORIAN
METHOD:PUBLISH
X-WR-CALNAME:【HIRAETH.Tokyo】(ヒラエス.トーキョー)
X-ORIGINAL-URL:https://hiraeth.tokyo
X-WR-CALDESC:【HIRAETH.Tokyo】(ヒラエス.トーキョー) のイベント
REFRESH-INTERVAL;VALUE=DURATION:PT1H
X-Robots-Tag:noindex
X-PUBLISHED-TTL:PT1H
BEGIN:VTIMEZONE
TZID:Asia/Tokyo
BEGIN:STANDARD
TZOFFSETFROM:+0900
TZOFFSETTO:+0900
TZNAME:JST
DTSTART:20250101T000000
END:STANDARD
END:VTIMEZONE
BEGIN:VEVENT
DTSTART;VALUE=DATE:20250907
DTEND;VALUE=DATE:20250908
DTSTAMP:20260422T124001
CREATED:20250811T120348Z
LAST-MODIFIED:20250901T174048Z
UID:14855-1757203200-1757289599@hiraeth.tokyo
SUMMARY:『プリュトラフェス〜かわいい×楽しい〜』＠CLUB CAMELOT
DESCRIPTION:⏰日時　9/7（日）\n📝イベント名　『プリュトラフェス〜かわいい×楽しい〜』\n💴料金　前売り前方3500円/一般2000円/当日＋500円（＋1D代別）\n🎫予約　https://t-dv.com/2pltr0907\n🎤LIVE　19:30〜19:50\n📸物販　終演後物販\n📍会場　CLUB CAMELOT\n🚪開場　15:30\n💃開演　16:00\n👩🏼‍💻出演　HIRAETH.Tokyo/あくきゅ〜/宇宙カラノ侵略者/【eN】/KOIHAJI/CIDER GEM/Cherie!/Newヒロイン/フラップアップ⤴︎︎︎/ゆりあちゃんとうじえちゃん。/ROOKEY♡ROOKEYS/るるぱにっく!!\nMC 髙木由莉愛
URL:https://hiraeth.tokyo/event/%e3%83%a9%e3%82%a4%e3%83%96%ef%bc%a0club-camelot-3/
ATTACH;FMTTYPE=image/jpeg:https://hiraeth.tokyo/wp-content/uploads/S__8847556.jpg
END:VEVENT
BEGIN:VEVENT
DTSTART;VALUE=DATE:20250907
DTEND;VALUE=DATE:20250908
DTSTAMP:20260422T124001
CREATED:20250724T105021Z
LAST-MODIFIED:20250827T123503Z
UID:14700-1757203200-1757289599@hiraeth.tokyo
SUMMARY:☆☆『IDOL ADVENTURE』＠中野坂上S.U.B
DESCRIPTION:⏰日時　9月7日（日）\n📝イベント名　☆☆『IDOL ADVENTURE』\n💴料金　 前方Sチケット3\,500円/一般Aチケット2\,500円/学生Bチケット1\,500円/各1D当日各＋1\,000円\n🎫予約　https://t.livepocket.jp/e/aiad_0907\n🎫情報解禁　8月28日（木）18:00\n🎫チケ発　8月28日（木）22:00\n🎤LIVE　15:40〜16:00\n📸物販　16:15〜17:15(A)\n📍会場　中野坂上S.U.B\n🚪開場　13:30\n💃開演　13:40\n👩🏼‍💻出演　HIRAETH.Tokyo /ストロボグリッター/LOVE IT’S/踊れ！神風/Honey Parasol/HIRAETH.Tokyo/クモリノチ。/ステラリオン/GrrRDoLL/真夜中のメリーゴーランド/TheHighRoller/#ヒトメボレ/＊ 青空ダイアリー ＊/青春リグレット/LEVO/異国のルミナリア/embellir/Blossom Garden/きゅーんず！/GIRLY MOON PROJECT/相沢瞳/antares
URL:https://hiraeth.tokyo/event/%e2%98%86%e2%98%86%e3%83%a9%e3%82%a4%e3%83%96%ef%bc%a0%e4%b8%ad%e9%87%8e%e5%9d%82%e4%b8%8as-u-b-11/
ATTACH;FMTTYPE=image/jpeg:https://hiraeth.tokyo/wp-content/uploads/0907アイアド.jpg
END:VEVENT
BEGIN:VEVENT
DTSTART;VALUE=DATE:20250907
DTEND;VALUE=DATE:20250908
DTSTAMP:20260422T124001
CREATED:20250628T084111Z
LAST-MODIFIED:20250904T120741Z
UID:14472-1757203200-1757289599@hiraeth.tokyo
SUMMARY:「SHBUYA KAWAII SUPER LIVE 2025」＠渋谷音楽堂
DESCRIPTION:⏰日時　9/7\n📝イベント名　「SHBUYA KAWAII SUPER LIVE 2025」\n💴料金　前方3\,500円/一般2\,500円（各D別）※予約のみ当日払\n🎫予約　https://tiget.net/events/425388　\n🎤LIVE　11:55〜12:15\n📸物販　12:30〜13:20(B)\n📍会場　渋谷音楽堂\n🚪開場　10：00\n💃開演　10：30\n👩🏼‍💻出演　HIRAETH.Tokyo /アイテムはてるてるのみ / IDOLEST / 『アイコノクラズム』 / AILOS / 8WIZARD / 8DOLL / 8FLAG /【eN】 / ヲドルマヨナカ / キミと永遠に / きゅんﾀﾋに一生を⁉ / キュン!?恋堕ちキューピッド / くれよんちゅ～どく / SILEN / 少年秘密倶楽部 / 神聖マキナ / THE LibertyLights / TheWORLD / SKYZ候補生 / SUPER JYAPON / セツナソウ / 戦国アニマル極楽浄土 / Dear8 / ネコプラpixx. /  憑依中毒-シャーマンホリック- / Melodys High / 夜とメルク / らびゅあたっく。/ LUNCH KIDS / Lilite tune / ルシフェルの園。
URL:https://hiraeth.tokyo/event/%e3%83%a9%e3%82%a4%e3%83%96%ef%bc%a0%e6%b8%8b%e8%b0%b7%e9%9f%b3%e6%a5%bd%e5%a0%82-9/
ATTACH;FMTTYPE=image/jpeg:https://hiraeth.tokyo/wp-content/uploads/0907-SHBUYA-KAWAII-SUPER-LIVE-2025.jpg
END:VEVENT
END:VCALENDAR