BEGIN:VCALENDAR
VERSION:2.0
PRODID:-//【HIRAETH.Tokyo】(ヒラエス.トーキョー) - ECPv6.11.2//NONSGML v1.0//EN
CALSCALE:GREGORIAN
METHOD:PUBLISH
X-ORIGINAL-URL:https://hiraeth.tokyo
X-WR-CALDESC:【HIRAETH.Tokyo】(ヒラエス.トーキョー) のイベント
REFRESH-INTERVAL;VALUE=DURATION:PT1H
X-Robots-Tag:noindex
X-PUBLISHED-TTL:PT1H
BEGIN:VTIMEZONE
TZID:Asia/Tokyo
BEGIN:STANDARD
TZOFFSETFROM:+0900
TZOFFSETTO:+0900
TZNAME:JST
DTSTART:20250101T000000
END:STANDARD
END:VTIMEZONE
BEGIN:VEVENT
DTSTART;VALUE=DATE:20250910
DTEND;VALUE=DATE:20250911
DTSTAMP:20260422T175646
CREATED:20250728T044158Z
LAST-MODIFIED:20250910T062555Z
UID:14737-1757462400-1757548799@hiraeth.tokyo
SUMMARY:『NEO IDOLEGION FREELIVE Vol 94』＠新宿DHNoA
DESCRIPTION:⏰日時　9月10日(水)\n📝イベント名　『NEO IDOLEGION FREELIVE Vol 94』\n💴料金　一般¥0/優先¥2\,000(先行予約)/当日+¥500(別途1D 600円)\n🎫予約　https://t-dv.com/idolegion94\n🎤LIVE　20:55〜21:10\n📸物販　21:15〜22:05(D)\n📍会場　新宿DHNoA\n🚪開場　12:25\n💃開演　12:40\n👩🏼‍💻出演　http://HIRAETH.Tokyo / #あいり～む / ADMIRAL×BANQUET / 磯野未来 / 8FLAG / 8WIZARD / 蓋然性オルトイズム / 傾奇隊 / 神崎零 / 恋に落ちる確率は限りなく低いが0じゃない / THAT’s So / Sistersあにま / シブヤDOMINION / ソロ♨️るる / Dear8 / TEARS-ティアーズ- / TJP / 天上天使 / 追憶のリンドヴルム / 月の欠片 / ToyTicTrap / NEOTOKYO-TRIBE / にとくり。 / なおくれあ / にゃんすきっ♡？ / はいどーも！テラスマです！ / pipia / HONEY RULE / ひとつキラリ / ぴこちゃ！ / http://HIRAETH.Tokyo / FIRST DREAM / FloreRisa / BrainBeat / HEAVENLY / MASK OF GODDESS / みらくる🌙ふぉーぜ-ZERO- / メモワールパルファム / ≪√PlusF✯rt≫~ﾙｰﾄﾌﾟﾘｭﾌｫｰﾙ~ / 笑う門には福来たる /
URL:https://hiraeth.tokyo/event/%e3%83%a9%e3%82%a4%e3%83%96%ef%bc%a0%e6%96%b0%e5%ae%bfdhnoa-18/
ATTACH;FMTTYPE=image/jpeg:https://hiraeth.tokyo/wp-content/uploads/NEO-FREELIVE20250910.jpg
END:VEVENT
END:VCALENDAR