BEGIN:VCALENDAR
VERSION:2.0
PRODID:-//【HIRAETH.Tokyo】(ヒラエス.トーキョー) - ECPv6.11.2//NONSGML v1.0//EN
CALSCALE:GREGORIAN
METHOD:PUBLISH
X-ORIGINAL-URL:https://hiraeth.tokyo
X-WR-CALDESC:【HIRAETH.Tokyo】(ヒラエス.トーキョー) のイベント
REFRESH-INTERVAL;VALUE=DURATION:PT1H
X-Robots-Tag:noindex
X-PUBLISHED-TTL:PT1H
BEGIN:VTIMEZONE
TZID:Asia/Tokyo
BEGIN:STANDARD
TZOFFSETFROM:+0900
TZOFFSETTO:+0900
TZNAME:JST
DTSTART:20250101T000000
END:STANDARD
END:VTIMEZONE
BEGIN:VEVENT
DTSTART;VALUE=DATE:20250917
DTEND;VALUE=DATE:20250918
DTSTAMP:20260425T005655
CREATED:20250728T044250Z
LAST-MODIFIED:20250915T103101Z
UID:14739-1758067200-1758153599@hiraeth.tokyo
SUMMARY:『NEO IDOLEGION FREELIVE Vol 95』@新宿DHNoA
DESCRIPTION:⏰日時　9月17日(水)\n📝イベント名　『NEO IDOLEGION FREELIVE Vol 95』@新宿DHNoA\n💴料金　一般¥0/優先¥2\,000(先行予約)/当日+¥500(別途1D 600円)\n🎫予約　https://t-dv.com/idolegion95\n🎤LIVE　22:25~22:40\n📸物販　前物販20:50〜21:10、終演後物販22:45〜23:15\n📍会場　新宿DHNoA\n🚪開場　12:25\n💃開演　12:40\n👩🏼‍💻出演　HIRAETH.Tokyo / #あいり～む / 8FLAG / 8WIZARD / 8DOLL / オルヘルの羽 / 蓋然性オルトイズム / キミリセット / 煌きメリー☆ボップ / 恋に落ちる確率は限りなく低いが0じゃない / THAT’s So / しおりん★まじっく / Sistersあにま / シブヤDOMINION / 青春フロンティア / 戦国アニマル極楽浄土 / 追憶のリンドヴルム / 月の欠片。/ ディサイダー /  Dear8 / TEARS-ティアーズ- / TJP /  天上天使 / ToyTicTrap / にとくり。 / にゃんすきっ♡？ / はいどーも！テラスマです！ / 破天荒ヒロイズム / ひとつキラリ / ぴこちゃ！ / HIRAETH.Tokyo / FIRST DREAM / FloreRisa / HEAVENLY / ぺりきゅらむ / ミニスカポリス / みらくる🌙ふぉーぜ-ZERO- /  メモワールパルファム / リベルナント / ≪√PlusF✯rt≫~ﾙｰﾄﾌﾟﾘｭﾌｫｰﾙ~ / 笑う門には福来たる / MASK OF GODDNESS
URL:https://hiraeth.tokyo/event/%e3%83%a9%e3%82%a4%e3%83%96%ef%bc%a0%e6%96%b0%e5%ae%bfdhnoa-19/
ATTACH;FMTTYPE=image/jpeg:https://hiraeth.tokyo/wp-content/uploads/S__57688299.jpg
END:VEVENT
END:VCALENDAR