BEGIN:VCALENDAR
VERSION:2.0
PRODID:-//【HIRAETH.Tokyo】(ヒラエス.トーキョー) - ECPv6.11.2//NONSGML v1.0//EN
CALSCALE:GREGORIAN
METHOD:PUBLISH
X-WR-CALNAME:【HIRAETH.Tokyo】(ヒラエス.トーキョー)
X-ORIGINAL-URL:https://hiraeth.tokyo
X-WR-CALDESC:【HIRAETH.Tokyo】(ヒラエス.トーキョー) のイベント
REFRESH-INTERVAL;VALUE=DURATION:PT1H
X-Robots-Tag:noindex
X-PUBLISHED-TTL:PT1H
BEGIN:VTIMEZONE
TZID:Asia/Tokyo
BEGIN:STANDARD
TZOFFSETFROM:+0900
TZOFFSETTO:+0900
TZNAME:JST
DTSTART:20250101T000000
END:STANDARD
END:VTIMEZONE
BEGIN:VEVENT
DTSTART;VALUE=DATE:20250922
DTEND;VALUE=DATE:20250923
DTSTAMP:20260425T091703
CREATED:20250902T074349Z
LAST-MODIFIED:20250920T052118Z
UID:15010-1758499200-1758585599@hiraeth.tokyo
SUMMARY:『TALE N.T. FESTA FREELIVE IKEBUKURO Vol.1』＠池袋リヴォイス
DESCRIPTION:⏰日時　9/22(月)\n📝イベント名　『TALE N.T. FESTA FREELIVE IKEBUKURO Vol.1』\n💴料金　一般¥0/優先¥1\,500 / 当日各+¥500 (別途各＋1D 700円)\n🎫予約　https://t-dv.com/TALEFREEIKE01\n🎫情報解禁　9/17(水)18:00\n🎫チケ発　9/17(水)23:00\n🎤LIVE　21:05〜21:25\n📸物販　 終演後物販\n📍会場　池袋リヴォイス\n🚪開場　19:00\n💃開演　19:20\n👩🏼‍💻出演　HIRAETH.Tokyo / 真夜中の魔法少女 / シブヤDOMINION / Re:INCARNATION / HEAVENLY /  GIRLY MOON PROJECT /
URL:https://hiraeth.tokyo/event/%e3%83%a9%e3%82%a4%e3%83%96%ef%bc%a0%e6%b1%a0%e8%a2%8b%e3%83%aa%e3%83%b4%e3%82%a9%e3%82%a4%e3%82%b9/
ATTACH;FMTTYPE=image/jpeg:https://hiraeth.tokyo/wp-content/uploads/20250922TALE-NT-FREE-IKEBUKURO-01-1.jpg
END:VEVENT
END:VCALENDAR