BEGIN:VCALENDAR
VERSION:2.0
PRODID:-//【HIRAETH.Tokyo】(ヒラエス.トーキョー) - ECPv6.11.2//NONSGML v1.0//EN
CALSCALE:GREGORIAN
METHOD:PUBLISH
X-WR-CALNAME:【HIRAETH.Tokyo】(ヒラエス.トーキョー)
X-ORIGINAL-URL:https://hiraeth.tokyo
X-WR-CALDESC:【HIRAETH.Tokyo】(ヒラエス.トーキョー) のイベント
REFRESH-INTERVAL;VALUE=DURATION:PT1H
X-Robots-Tag:noindex
X-PUBLISHED-TTL:PT1H
BEGIN:VTIMEZONE
TZID:Asia/Tokyo
BEGIN:STANDARD
TZOFFSETFROM:+0900
TZOFFSETTO:+0900
TZNAME:JST
DTSTART:20250101T000000
END:STANDARD
END:VTIMEZONE
BEGIN:VEVENT
DTSTART;VALUE=DATE:20250923
DTEND;VALUE=DATE:20250924
DTSTAMP:20260425T105123
CREATED:20250819T051414Z
LAST-MODIFIED:20250917T065253Z
UID:14932-1758585600-1758671999@hiraeth.tokyo
SUMMARY:IDOL Sweets Cyun ＠渋谷近未来会館
DESCRIPTION:⏰日時　9/23(火)\n📝イベント名　IDOL Sweets Cyun\n💴料金　前方 3\,500円 / 通常 2\,000円 / 当日＋¥500 (D代別)\n🎫予約　https://t-dv.com/ISC_0923\n🎤LIVE　14:30〜14:50\n📸物販　15:05〜16:05(A)\n📍会場　渋谷近未来会館\n🚪開場　12:10\n💃開演　12:30\n👩🏼‍💻出演　ぶっとび！パンデミック / にっぽんワチャチャ / LOVE IZ DOLL / My Criminal Lovers’ / Re:Yu / HIRAETH.Tokyo / ミニワチャ / THE POWER / びびっとキュート/ Re: Code / LUNCH KIDS / 青春のフロンティア / とわる / PeaticPartic / AKUMATICA / STAMPEDE / Crazy Fantasy / THE+BETH / Coloration / TheHighRoller / アプセルフ / 青空ダイアリー / DOKUDOKU / #ヒトメボレ / るるぱにっく‼︎
URL:https://hiraeth.tokyo/event/%e3%83%a9%e3%82%a4%e3%83%96%ef%bc%a0%e6%b8%8b%e8%b0%b7%e8%bf%91%e6%9c%aa%e6%9d%a5%e4%bc%9a%e9%a4%a8-2/
ATTACH;FMTTYPE=image/jpeg:https://hiraeth.tokyo/wp-content/uploads/IMG_1600.jpg
END:VEVENT
BEGIN:VEVENT
DTSTART;VALUE=DATE:20250923
DTEND;VALUE=DATE:20250924
DTSTAMP:20260425T105123
CREATED:20250712T170556Z
LAST-MODIFIED:20250917T065722Z
UID:14616-1758585600-1758671999@hiraeth.tokyo
SUMMARY:『IDOL FABRIC vol.8』＠Zirco Tokyo
DESCRIPTION:⏰日時　9月23日(火祝)\n📝イベント名　『IDOL FABRIC vol.8』\n💴料金　前方4\,500円/一般2\,500円（各+1D）当日＋500円\n🎫予約　https://t-dv.com/idolfabric8\n🎤LIVE　21:00〜21:25\n📸物販　終演後物販\n📍会場　Zirco Tokyo\n🚪開場　9:30\n💃開演　9:45\n👩🏼‍💻出演　I♡tube/AKUMATICA/アプセルフ/Arno/&and/vVibe!/オルヘルの羽/折れないしっぽ/風邪をひいた時にみる夢/ガブっと！ひゃっきおとめ/キミとプレリュード/CUЯELESS/煌きメリー☆ボップ/偶像リユニオン/クモリノチ。/Crazy Fantasy/Sunny spot/睡眠コンプレックス/宇宙カラノ侵略者/TIGHT/Tool to/DOKUDOKU/Try me/とわる/てんしろっ！ /NEO EARTH!!/はいどーも！テラスマです！/HIRAETH.Tokyo/ぺるそな✯プラネット/僕には通じない/僕らのコミューン/よふかしツインテール/凛々しくも臨界に咲くARTERIA/キミリセット/THE+BETH
URL:https://hiraeth.tokyo/event/%e3%83%a9%e3%82%a4%e3%83%96%ef%bc%a0zirco-tokyo-15/
ATTACH;FMTTYPE=image/png:https://hiraeth.tokyo/wp-content/uploads/IMG_1599.png
END:VEVENT
END:VCALENDAR