BEGIN:VCALENDAR
VERSION:2.0
PRODID:-//【HIRAETH.Tokyo】(ヒラエス.トーキョー) - ECPv6.11.2//NONSGML v1.0//EN
CALSCALE:GREGORIAN
METHOD:PUBLISH
X-WR-CALNAME:【HIRAETH.Tokyo】(ヒラエス.トーキョー)
X-ORIGINAL-URL:https://hiraeth.tokyo
X-WR-CALDESC:【HIRAETH.Tokyo】(ヒラエス.トーキョー) のイベント
REFRESH-INTERVAL;VALUE=DURATION:PT1H
X-Robots-Tag:noindex
X-PUBLISHED-TTL:PT1H
BEGIN:VTIMEZONE
TZID:Asia/Tokyo
BEGIN:STANDARD
TZOFFSETFROM:+0900
TZOFFSETTO:+0900
TZNAME:JST
DTSTART:20250101T000000
END:STANDARD
END:VTIMEZONE
BEGIN:VEVENT
DTSTART;VALUE=DATE:20251210
DTEND;VALUE=DATE:20251211
DTSTAMP:20260421T191800
CREATED:20251113T075111Z
LAST-MODIFIED:20251209T093153Z
UID:15670-1765324800-1765411199@hiraeth.tokyo
SUMMARY:『NEO IDOLEGION FREELIVE Vol 107』＠新宿DHNoA
DESCRIPTION:⏰日時　12月10日(水)\n📝イベント名　『NEO IDOLEGION FREELIVE Vol 107』\n💴料金　一般¥0 / 優先¥2\,000 / 最優先¥5\,000 当日各+¥500 (別途1D 700円)\n🎫予約　https://t-dv.com/idolegion107\n🎫情報解禁　12/3(水)16:00\n🎫チケ発　12/3(水)22:00\n🎤LIVE　19:50～20:05\n📸物販　20:10～21:00(D)\n📍会場　新宿DHNoA\n🚪開場　12:25\n💃開演　12:35\n👩🏼‍💻出演　 HIRAETH.Tokyo / ＃あいり～む / アスパルテーム / 雨沢凛 / ウルトラめっちゃ凄く良いグループ / 8DOLL / 8WIZARD / 8FLAG / オルヘルの羽 / 傾奇隊 / 神崎零 / キミリセット / 救済メランコリー / 煌きメリー☆ボップ / THAT’s So / ディサイダー / 青春のフロンティア / ソロ♨️るる / ちあもあ！ / Tuning Fill in / Tiara Palette / TJP / Dear8 / ToyTicTrap / なうろ〜でぃんぐ！ / にゃんすきっ♡？ / NEOTOKYO-TRIBE / no concept / はいどーも！テラスマです！ / 破天荒ヒロイズム / FIRST DREAM / FLORE RISA / HEAVENLY / みらくる🌙ふぉーぜ-ZERO- / MeltiaDoll / LIZZ / 笑う門には福来たる / ゎんみゅー♡  / mignon
URL:https://hiraeth.tokyo/event/%e3%83%a9%e3%82%a4%e3%83%96%ef%bc%a0%e6%96%b0%e5%ae%bfdhnoa-31/
ATTACH;FMTTYPE=image/jpeg:https://hiraeth.tokyo/wp-content/uploads/NEO-FREELIVE20251210-scaled.jpg
END:VEVENT
END:VCALENDAR