BEGIN:VCALENDAR
VERSION:2.0
PRODID:-//【HIRAETH.Tokyo】(ヒラエス.トーキョー) - ECPv6.11.2//NONSGML v1.0//EN
CALSCALE:GREGORIAN
METHOD:PUBLISH
X-WR-CALNAME:【HIRAETH.Tokyo】(ヒラエス.トーキョー)
X-ORIGINAL-URL:https://hiraeth.tokyo
X-WR-CALDESC:【HIRAETH.Tokyo】(ヒラエス.トーキョー) のイベント
REFRESH-INTERVAL;VALUE=DURATION:PT1H
X-Robots-Tag:noindex
X-PUBLISHED-TTL:PT1H
BEGIN:VTIMEZONE
TZID:Asia/Tokyo
BEGIN:STANDARD
TZOFFSETFROM:+0900
TZOFFSETTO:+0900
TZNAME:JST
DTSTART:20260101T000000
END:STANDARD
END:VTIMEZONE
BEGIN:VEVENT
DTSTART;VALUE=DATE:20260425
DTEND;VALUE=DATE:20260426
DTSTAMP:20260425T015708
CREATED:20260423T062642Z
LAST-MODIFIED:20260423T062642Z
UID:16761-1777075200-1777161599@hiraeth.tokyo
SUMMARY:ネクストジェネレーションアイドルフェス-powered by Hajimari project- Vol. 2 @神田F#
DESCRIPTION:⏰日時　2026/4/25(土)\n📝イベント名　ネクストジェネレーションアイドルフェス-powered by Hajimari project- Vol. 2\n⚠️青葉咲來ソロの出演⚠️\n💴料金　前方優先チケット¥3\,000/ 一般Aチケット¥１\,500/ 当日各＋500円/※各1D\n🎫予約　https://livepocket.jp/e/next-generation\n🎫チケ発　4/23（木）22:00〜\n🎤LIVE　10:15～10:45\n📸物販　11:20～12:20\n🎁指名特典　限定サイン付きキラキラチェキ券\n📍会場　神田F#\n🚪開場　10:00\n💃開演　10:15\n👩🏼‍💻出演　青葉咲來/ゆあどーる/あいびす/jillnoah
URL:https://hiraeth.tokyo/event/%e3%83%8d%e3%82%af%e3%82%b9%e3%83%88%e3%82%b8%e3%82%a7%e3%83%8d%e3%83%ac%e3%83%bc%e3%82%b7%e3%83%a7%e3%83%b3%e3%82%a2%e3%82%a4%e3%83%89%e3%83%ab%e3%83%95%e3%82%a7%e3%82%b9-powered-by-hajimari-project/
ATTACH;FMTTYPE=image/png:https://hiraeth.tokyo/wp-content/uploads/ネクジェネ２1.png
END:VEVENT
BEGIN:VEVENT
DTSTART;VALUE=DATE:20260425
DTEND;VALUE=DATE:20260426
DTSTAMP:20260425T015708
CREATED:20260319T181810Z
LAST-MODIFIED:20260422T013517Z
UID:16459-1777075200-1777161599@hiraeth.tokyo
SUMMARY:☆☆☆☆☆NEO EARTH!!最終公演 「フィナーレはパレードのあとで」＠新宿DHNoA
DESCRIPTION:⏰日時　2026/04/25（土）\n📝イベント名　NEO EARTH!!最終公演「フィナーレはパレードのあとで」＠新宿DHNoA\n💴料金　通常前売りチケット￥2\,000 当日チケット￥2\,500　※各チケットに入場時に追加でドリンク代が必要となります。\n🎫予約　https://t-dv.com/neo_earth_final\n🎫情報解禁　3月29日(日)21:00\n🎫チケ発　4月01日(水)20:00\n🎤LIVE　17:40~18:00\n📸物販　終演後19:25~21:45\n🎁指名入場 【チェキ券】+【新アー写オフショットランダムブロマイド3枚】+【30秒トーク延長券】+【500円割引券】+【5ポイント】\n📍会場　新宿DHNoA\n🚪開場　15:30\n💃開演　16:00\n👩🏼‍💻出演　NEO EARTH!! / はれ～しょんのっとひっと / HIRAETH.Tokyo / 僕には通じない / Baby inspire / はいどーも！テラスマです！ / HUSH HUSH
URL:https://hiraeth.tokyo/event/%e3%83%a9%e3%82%a4%e3%83%96%ef%bc%a0%e6%96%b0%e5%ae%bfdhnoa-35/
ATTACH;FMTTYPE=image/jpeg:https://hiraeth.tokyo/wp-content/uploads/S__483344391.jpg
END:VEVENT
END:VCALENDAR